BEGIN:VCALENDAR
VERSION:2.0
METHOD:PUBLISH
PRODID:-//Missouri State University/Calendar of Events//EN
CALSCALE:GREGORIAN
X-WR-TIMEZONE:America/Chicago
BEGIN:VTIMEZONE
TZID:America/Chicago
BEGIN:DAYLIGHT
TZOFFSETFROM:-0600
TZOFFSETTO:-0500
DTSTART:20070311T020000
RRULE:FREQ=YEARLY;BYMONTH=3;BYDAY=2SU
TZNAME:CDT
END:DAYLIGHT
BEGIN:STANDARD
TZOFFSETFROM:-0500
TZOFFSETTO:-0600
DTSTART:20071104T020000
RRULE:FREQ=YEARLY;BYMONTH=11;BYDAY=1SU
TZNAME:CST
END:STANDARD
END:VTIMEZONE
BEGIN:VEVENT
UID:73b8b37e-51a9-4933-acad-2d36b1e4d369.228240@calendar.missouristate.edu
CREATED:20230620T141046Z
LAST-MODIFIED:20230620T141046Z
LOCATION:Plaster Student Union\, Robert W. Food Court
SUMMARY:Disney Trivia
DESCRIPTION:This trivia will consist of multiple rounds of questions based
  around Disney and its universe. \n\n\nEach round\, students will join in
  groups of 4. [If students do not have a group of 4\, SAC will have the r
 ight to merge groups.] The students will play each round on Kahoot. \n\n\
 nFREE FOOD!
X-ALT-DESC;FMTTYPE=text/html:&lt;html&gt;&lt;head&gt;&lt;title&gt;&lt;/title&gt;&lt;/head&gt;&lt;body&gt;&lt;p&gt;&lt;s
 pan&gt;This trivia will consist of multiple rounds of questions based around
  Disney and its universe. &lt;/span&gt;&lt;/p&gt;\n&lt;p&gt;&lt;span&gt;Each round\, students wil
 l join in groups of 4. [If students do not have a group of 4\, SAC will h
 ave the right to merge groups.] The students will play each round on Kaho
 ot. &lt;/span&gt;&lt;/p&gt;\n&lt;p&gt;&lt;span&gt;FREE FOOD!&lt;/span&gt;&lt;/p&gt;&lt;/body&gt;&lt;/html&gt;
DTSTART;TZID=America/Chicago:20230921T000000
DTEND;TZID=America/Chicago:20230921T000000
SEQUENCE:0
URL:
CATEGORIES:Current Students
END:VEVENT
END:VCALENDAR