BEGIN:VCALENDAR
VERSION:2.0
METHOD:PUBLISH
PRODID:-//Missouri State University/Calendar of Events//EN
CALSCALE:GREGORIAN
X-WR-TIMEZONE:America/Chicago
BEGIN:VTIMEZONE
TZID:America/Chicago
BEGIN:DAYLIGHT
TZOFFSETFROM:-0600
TZOFFSETTO:-0500
DTSTART:20070311T020000
RRULE:FREQ=YEARLY;BYMONTH=3;BYDAY=2SU
TZNAME:CDT
END:DAYLIGHT
BEGIN:STANDARD
TZOFFSETFROM:-0500
TZOFFSETTO:-0600
DTSTART:20071104T020000
RRULE:FREQ=YEARLY;BYMONTH=11;BYDAY=1SU
TZNAME:CST
END:STANDARD
END:VTIMEZONE
BEGIN:VEVENT
UID:3c3e3157-b045-408c-aba8-0c5f707e79f6.228241@calendar.missouristate.edu
CREATED:20230620T141333Z
LAST-MODIFIED:20230620T141333Z
LOCATION:Davis-Harrington Welcome Center
SUMMARY:Headphone Disco
DESCRIPTION:Headphone Disco is SAC's Homecoming tradition....wear some hea
 dphones and jam to some music. \n\n\nNo music plays out loud during the e
 vent\, rather it is streamed into the headphones and can be switched betw
 een 3 different channels. \n\n\nThere will be a large variety of food for
  students to enjoy while dancing or hanging out!
X-ALT-DESC;FMTTYPE=text/html:&lt;html&gt;&lt;head&gt;&lt;title&gt;&lt;/title&gt;&lt;/head&gt;&lt;body&gt;&lt;p&gt;&lt;s
 pan&gt;Headphone Disco is SAC's Homecoming tradition....wear some headphones
  and jam to some music. &lt;/span&gt;&lt;/p&gt;\n&lt;p&gt;&lt;span&gt;No music plays out loud dur
 ing the event\, rather it is streamed into the headphones and can be swit
 ched between 3 different channels. &lt;/span&gt;&lt;/p&gt;\n&lt;p&gt;&lt;span&gt;There will be a 
 large variety of food for students to enjoy while dancing or hanging out!
  &lt;/span&gt;&lt;/p&gt;&lt;/body&gt;&lt;/html&gt;
DTSTART;TZID=America/Chicago:20231019T200000
DTEND;TZID=America/Chicago:20231019T230000
SEQUENCE:0
URL:
CATEGORIES:Current Students
END:VEVENT
END:VCALENDAR