BEGIN:VCALENDAR
VERSION:2.0
METHOD:PUBLISH
PRODID:-//Missouri State University/Calendar of Events//EN
CALSCALE:GREGORIAN
X-WR-TIMEZONE:America/Chicago
BEGIN:VTIMEZONE
TZID:America/Chicago
BEGIN:DAYLIGHT
TZOFFSETFROM:-0600
TZOFFSETTO:-0500
DTSTART:20070311T020000
RRULE:FREQ=YEARLY;BYMONTH=3;BYDAY=2SU
TZNAME:CDT
END:DAYLIGHT
BEGIN:STANDARD
TZOFFSETFROM:-0500
TZOFFSETTO:-0600
DTSTART:20071104T020000
RRULE:FREQ=YEARLY;BYMONTH=11;BYDAY=1SU
TZNAME:CST
END:STANDARD
END:VTIMEZONE
BEGIN:VEVENT
UID:dde0de62-d463-47d7-8c86-0e0800664e0b.228242@calendar.missouristate.edu
CREATED:20230620T141517Z
LAST-MODIFIED:20230620T141517Z
LOCATION:Plaster Student Union\, Robert W. Theater
SUMMARY:Family Weekend Entertainer
DESCRIPTION:SAC Live Entertainment has partnered with Family Weekend for t
 he past few years\, and this event is a continuation of that. \n\n\nThis 
 event will coincide with Family Weekend and provide entertainment to fami
 lies after the football game on that Saturday.
X-ALT-DESC;FMTTYPE=text/html:&lt;html&gt;&lt;head&gt;&lt;title&gt;&lt;/title&gt;&lt;/head&gt;&lt;body&gt;&lt;p&gt;&lt;s
 pan&gt;SAC Live Entertainment has partnered with Family Weekend for the past
  few years\, and this event is a continuation of that. &lt;/span&gt;&lt;/p&gt;\n&lt;p&gt;&lt;s
 pan&gt;This event will coincide with Family Weekend and provide entertainmen
 t to families after the football game on that Saturday.&lt;/span&gt;&lt;/p&gt;&lt;/body&gt;
 &lt;/html&gt;
DTSTART;TZID=America/Chicago:20230923T190000
DTEND;TZID=America/Chicago:20230923T203000
SEQUENCE:0
URL:https://www.missouristate.edu/bearsfamilies/familyweekend.htm
CATEGORIES:Public,Current Students
END:VEVENT
END:VCALENDAR