BEGIN:VCALENDAR
VERSION:2.0
METHOD:PUBLISH
PRODID:-//Missouri State University/Calendar of Events//EN
CALSCALE:GREGORIAN
X-WR-TIMEZONE:America/Chicago
BEGIN:VTIMEZONE
TZID:America/Chicago
BEGIN:DAYLIGHT
TZOFFSETFROM:-0600
TZOFFSETTO:-0500
DTSTART:20070311T020000
RRULE:FREQ=YEARLY;BYMONTH=3;BYDAY=2SU
TZNAME:CDT
END:DAYLIGHT
BEGIN:STANDARD
TZOFFSETFROM:-0500
TZOFFSETTO:-0600
DTSTART:20071104T020000
RRULE:FREQ=YEARLY;BYMONTH=11;BYDAY=1SU
TZNAME:CST
END:STANDARD
END:VTIMEZONE
BEGIN:VEVENT
UID:9bcfb9c6-9fd6-419c-a5b9-df4bdbd1be45.228244@calendar.missouristate.edu
CREATED:20230613T154731Z
LAST-MODIFIED:20230613T154731Z
LOCATION:
SUMMARY:America’s Seed Fund Road Tour – Midwest 2023
DESCRIPTION:America’s Seed Fund Road Tour 2023 – Midwest is a national out
 reach effort connecting entrepreneurs working on advanced technologies to
  the country’s largest source of early-stage funding – the Small Business
  Innovation Research (SBIR) and Small Business Technology Transfer (STTR)
  programs. Also known as America’s Seed Fund\, these programs provide mor
 e than $4 billion in funding to support scientific excellence and technol
 ogical innovation through the investment of federal research funds to bui
 ld a strong national economy.Each Road Tour stop\, hosted by an America’s
  Seed Fund FAST Partner\, will provide attendees with an opportunity to h
 ear directly from Federal Agencies that administer over 6\,000 new fundin
 g awards annually and to meet one-on-one with program decision makers.
X-ALT-DESC;FMTTYPE=text/html:&lt;html&gt;&lt;head&gt;&lt;title&gt;&lt;/title&gt;&lt;/head&gt;&lt;body&gt;&lt;p&gt;Am
 erica’s Seed Fund Road Tour 2023 – Midwest is a national outreach effort 
 connecting entrepreneurs working on advanced technologies to the country’
 s largest source of early-stage funding – the Small Business Innovation R
 esearch (SBIR) and Small Business Technology Transfer (STTR) programs. Al
 so known as America’s Seed Fund\, these programs provide more than $4 bil
 lion in funding to support scientific excellence and technological innova
 tion through the investment of federal research funds to build a strong n
 ational economy.&lt;br&gt;&lt;br&gt;Each Road Tour stop\, hosted by an America’s Seed
  Fund FAST Partner\, will provide attendees with an opportunity to hear d
 irectly from Federal Agencies that administer over 6\,000 new funding awa
 rds annually and to meet one-on-one with program decision makers.&lt;/p&gt;&lt;/bo
 dy&gt;&lt;/html&gt;
DTSTART;TZID=America/Chicago:20230719T080000
DTEND;TZID=America/Chicago:20230719T160000
SEQUENCE:0
URL:https://efactory.missouristate.edu/events/americas-seed-fund-road-tour
 -midwest-2023/
CATEGORIES:Public
END:VEVENT
END:VCALENDAR