BEGIN:VCALENDAR
VERSION:2.0
METHOD:PUBLISH
PRODID:-//Missouri State University/Calendar of Events//EN
CALSCALE:GREGORIAN
X-WR-TIMEZONE:America/Chicago
BEGIN:VTIMEZONE
TZID:America/Chicago
BEGIN:DAYLIGHT
TZOFFSETFROM:-0600
TZOFFSETTO:-0500
DTSTART:20070311T020000
RRULE:FREQ=YEARLY;BYMONTH=3;BYDAY=2SU
TZNAME:CDT
END:DAYLIGHT
BEGIN:STANDARD
TZOFFSETFROM:-0500
TZOFFSETTO:-0600
DTSTART:20071104T020000
RRULE:FREQ=YEARLY;BYMONTH=11;BYDAY=1SU
TZNAME:CST
END:STANDARD
END:VTIMEZONE
BEGIN:VEVENT
UID:2f1e69fc-b244-4ef8-8e32-da5ddde38621.228268@calendar.missouristate.edu
CREATED:20230621T212042Z
LAST-MODIFIED:20230621T212042Z
LOCATION:Plaster Free Enterprise Center\, Robert W.
SUMMARY:Five Dysfunctions of a Team
DESCRIPTION:The Five Dysfunctions of a Team outlines the root causes of po
 litics and dysfunction on the teams where you work and the keys to overco
 ming them. Counter to conventional wisdom\, the causes of dysfunction are
  both identifiable and curable. However\, they don’t die easily. Making a
  team functional and cohesive requires levels of courage and discipline t
 hat many groups cannot seem to muster.\n\n\nThe workshop is based on the 
 book\, "The Five Dysfunctions of a Team" by Patrick Lencioni.
X-ALT-DESC;FMTTYPE=text/html:&lt;html&gt;&lt;head&gt;&lt;title&gt;&lt;/title&gt;&lt;/head&gt;&lt;body&gt;&lt;p&gt;Th
 e Five Dysfunctions of a Team outlines the root causes of politics and dy
 sfunction on the teams where you work and the keys to overcoming them. Co
 unter to conventional wisdom\, the causes of dysfunction are both identif
 iable and curable. However\, they don’t die easily. Making a team functio
 nal and cohesive requires levels of courage and discipline that many grou
 ps cannot seem to muster.&lt;/p&gt;\n&lt;p&gt;The workshop is based on the book\, "Th
 e Five Dysfunctions of a Team" by Patrick Lencioni.&lt;/p&gt;&lt;/body&gt;&lt;/html&gt;
DTSTART;TZID=America/Chicago:20231107T090000
DTEND;TZID=America/Chicago:20231107T160000
SEQUENCE:0
URL:https://efactory.missouristate.edu/events/5-dysfunctions-of-a-team/
CATEGORIES:Public
END:VEVENT
END:VCALENDAR