BEGIN:VCALENDAR
VERSION:2.0
METHOD:PUBLISH
PRODID:-//Missouri State University/Calendar of Events//EN
CALSCALE:GREGORIAN
X-WR-TIMEZONE:America/Chicago
BEGIN:VTIMEZONE
TZID:America/Chicago
BEGIN:DAYLIGHT
TZOFFSETFROM:-0600
TZOFFSETTO:-0500
DTSTART:20070311T020000
RRULE:FREQ=YEARLY;BYMONTH=3;BYDAY=2SU
TZNAME:CDT
END:DAYLIGHT
BEGIN:STANDARD
TZOFFSETFROM:-0500
TZOFFSETTO:-0600
DTSTART:20071104T020000
RRULE:FREQ=YEARLY;BYMONTH=11;BYDAY=1SU
TZNAME:CST
END:STANDARD
END:VTIMEZONE
BEGIN:VEVENT
UID:00000000-0000-0000-0000-000000000000.228275@calendar.missouristate.edu
CREATED:20230613T164528Z
LAST-MODIFIED:20230613T164528Z
LOCATION:To Be Determined
SUMMARY:Springfield Alumni Chapter MSU Night at the Cardinals
DESCRIPTION:Cheer on the Springfield Cardinals with fellow Missouri State 
 alumni\, friends and fans on Friday\, July 21 at Hammons Field.\n\n\n 
X-ALT-DESC;FMTTYPE=text/html:&lt;html&gt;&lt;head&gt;&lt;title&gt;&lt;/title&gt;&lt;/head&gt;&lt;body&gt;&lt;p&gt;Ch
 eer on the Springfield Cardinals with fellow Missouri State alumni\, frie
 nds and fans on Friday\, July 21 at Hammons Field.&lt;/p&gt;\n&lt;p&gt;&amp;nbsp\;&lt;/p&gt;&lt;/b
 ody&gt;&lt;/html&gt;
DTSTART;TZID=America/Chicago:20230721T190000
DTEND;TZID=America/Chicago:20230721T220000
SEQUENCE:0
URL:https://missouristate.imodules.com?sid=1691&amp;gid=2&amp;pgid=3191&amp;cid=5544&amp;e
 cid=5544&amp;ciid=18879&amp;crid=0
CATEGORIES:Public,Alumni,Parents and Family,Visitors
END:VEVENT
END:VCALENDAR