BEGIN:VCALENDAR
VERSION:2.0
METHOD:PUBLISH
PRODID:-//Missouri State University/Calendar of Events//EN
CALSCALE:GREGORIAN
X-WR-TIMEZONE:America/Chicago
BEGIN:VTIMEZONE
TZID:America/Chicago
BEGIN:DAYLIGHT
TZOFFSETFROM:-0600
TZOFFSETTO:-0500
DTSTART:20070311T020000
RRULE:FREQ=YEARLY;BYMONTH=3;BYDAY=2SU
TZNAME:CDT
END:DAYLIGHT
BEGIN:STANDARD
TZOFFSETFROM:-0500
TZOFFSETTO:-0600
DTSTART:20071104T020000
RRULE:FREQ=YEARLY;BYMONTH=11;BYDAY=1SU
TZNAME:CST
END:STANDARD
END:VTIMEZONE
BEGIN:VEVENT
UID:c87da0db-2559-40fc-b076-749e2b41ce93.228280@calendar.missouristate.edu
CREATED:20230621T211926Z
LAST-MODIFIED:20230621T211926Z
LOCATION:Glass Hall\, David D. 331
SUMMARY:Microsoft Excel Training Series
DESCRIPTION:Organizational and Talent Development is proud to offer hybrid
  online/seated Microsoft Excel classes that combine the advantages of sel
 f-paced learning through LinkedIn Learning with the hands-on guidance of 
 traditional instructor-led workshops facilitated by Karen Eisman.\n\n\nNo
 te: These workshops require additional pre-work before each scheduled ses
 sion.\n\n\nMicrosoft Excel Level 1 (Beginner) July 11\, 2-4 p.m. in Glass
  Hall 331\n\n\n\nStart out by getting a broad overview of the Excel inter
 face along with fundamental concepts and features that enable you to conf
 idently handle most common tasks in Excel.\n\nMicrosoft Excel Level 2 (In
 termediate) July 18\, 2-4 p.m. in Glass Hall 331\n\n\n\nReady to take you
 r Excel skills to the next level? Dive deeper into Excel’s features that 
 improve efficiency and productivity. Learn to produce high quality output
  quickly while preventing data entry errors.\n\nMicrosoft Excel Level 3 (
 Advanced) July 25\, 2-4 p.m. in Glass Hall 331\n\n\n\nIt’s time to unlock
  the true powers of Microsoft Excel! Learn the latest advanced formulas a
 nd functions\, create your own macros and perform advanced data analytics
  with Power Query and Power Pivot.\n\nBonus: After each session\, you are
  encouraged to stay for an optional one-hour practice and Q&amp;A lab where y
 ou can get assistance applying your new skills on your own projects!
X-ALT-DESC;FMTTYPE=text/html:&lt;html&gt;&lt;head&gt;&lt;title&gt;&lt;/title&gt;&lt;/head&gt;&lt;body&gt;&lt;p&gt;&lt;s
 trong&gt;Organizational and Talent Development&lt;/strong&gt; is proud to offer hy
 brid online/seated Microsoft Excel classes that combine the advantages of
  self-paced learning through &lt;a href="https://www.linkedin.com/learning/"
  target="_blank" title="LinkedIn Learning"&gt;LinkedIn Learning&lt;/a&gt;&amp;nbsp\;wi
 th the hands-on guidance of traditional instructor-led workshops facilita
 ted by Karen Eisman.&lt;/p&gt;\n&lt;p&gt;&lt;strong&gt;Note: These workshops require additi
 onal pre-work before each scheduled session.&lt;/strong&gt;&lt;/p&gt;\n&lt;p&gt;&lt;strong&gt;Mic
 rosoft Excel Level 1 (Beginner)&lt;/strong&gt; July 11\, 2-4 p.m. in Glass Hall
  331&lt;/p&gt;\n&lt;ul&gt;\n&lt;li&gt;Start out by getting a broad overview of the Excel in
 terface along with fundamental concepts and features that enable you to c
 onfidently handle most common tasks in Excel.&lt;/li&gt;\n&lt;/ul&gt;\n&lt;p&gt;&lt;strong&gt;Mic
 rosoft Excel Level 2 (Intermediate)&lt;/strong&gt; July 18\, 2-4 p.m. in Glass 
 Hall 331&lt;/p&gt;\n&lt;ul&gt;\n&lt;li&gt;Ready to take your Excel skills to the next level
 ? Dive deeper into Excel’s features that improve efficiency and productiv
 ity. Learn to produce high quality output quickly while preventing data e
 ntry errors.&lt;/li&gt;\n&lt;/ul&gt;\n&lt;p&gt;&lt;strong&gt;Microsoft Excel Level 3 (Advanced)&lt;/
 strong&gt; July 25\, 2-4 p.m. in Glass Hall 331&lt;/p&gt;\n&lt;ul&gt;\n&lt;li&gt;It’s time to 
 unlock the true powers of Microsoft Excel! Learn the latest advanced form
 ulas and functions\, create your own macros and perform advanced data ana
 lytics with Power Query and Power Pivot.&lt;/li&gt;\n&lt;/ul&gt;\n&lt;p&gt;&lt;strong&gt;Bonus:&lt;/
 strong&gt;&amp;nbsp\;After each session\, you are encouraged to stay for an &lt;str
 ong&gt;optional one-hour practice and Q&amp;amp\;A lab&lt;/strong&gt; where you can ge
 t assistance applying your new skills on your own projects!&lt;/p&gt;&lt;/body&gt;&lt;/h
 tml&gt;
DTSTART;TZID=America/Chicago:20230711T140000
DTEND;TZID=America/Chicago:20230711T160000
SEQUENCE:0
URL:https://blogs.missouristate.edu/human/2023/06/15/excel-training-series/
CATEGORIES:Faculty,Staff
END:VEVENT
END:VCALENDAR