BEGIN:VCALENDAR
VERSION:2.0
METHOD:PUBLISH
PRODID:-//Missouri State University/Calendar of Events//EN
CALSCALE:GREGORIAN
X-WR-TIMEZONE:America/Chicago
BEGIN:VTIMEZONE
TZID:America/Chicago
BEGIN:DAYLIGHT
TZOFFSETFROM:-0600
TZOFFSETTO:-0500
DTSTART:20070311T020000
RRULE:FREQ=YEARLY;BYMONTH=3;BYDAY=2SU
TZNAME:CDT
END:DAYLIGHT
BEGIN:STANDARD
TZOFFSETFROM:-0500
TZOFFSETTO:-0600
DTSTART:20071104T020000
RRULE:FREQ=YEARLY;BYMONTH=11;BYDAY=1SU
TZNAME:CST
END:STANDARD
END:VTIMEZONE
BEGIN:VEVENT
UID:a3de351f-8363-4849-a622-aa85c0de20ca.228301@calendar.missouristate.edu
CREATED:20230616T051505Z
LAST-MODIFIED:20230616T051505Z
LOCATION:Hammons Student Center\, John Q.
SUMMARY:Missouri State University Women's Volleyball vs Arkansas State vs.
  Lindenwood
DESCRIPTION:Missouri State University Women's Volleyball hosts Arkansas St
 ate vs. LindenwoodTV: ESPN3
X-ALT-DESC;FMTTYPE=text/html:&lt;html&gt;&lt;head&gt;&lt;title&gt;&lt;/title&gt;&lt;/head&gt;&lt;body&gt;Misso
 uri State University Women's Volleyball hosts Arkansas State vs. Lindenwo
 od&lt;br&gt;&lt;br&gt;TV: ESPN3&lt;/body&gt;&lt;/html&gt;
DTSTART;TZID=America/Chicago:20230915T150000
DTEND;TZID=America/Chicago:20230915T170000
SEQUENCE:0
URL:http://missouristatebears.com/index.aspx?path=wvball
CATEGORIES:Current Students,Future Students,Parents and Family,Alumni,
 Faculty,Staff,Community,Visitors,Athletics
END:VEVENT
END:VCALENDAR