BEGIN:VCALENDAR
VERSION:2.0
METHOD:PUBLISH
PRODID:-//Missouri State University/Calendar of Events//EN
CALSCALE:GREGORIAN
X-WR-TIMEZONE:America/Chicago
BEGIN:VTIMEZONE
TZID:America/Chicago
BEGIN:DAYLIGHT
TZOFFSETFROM:-0600
TZOFFSETTO:-0500
DTSTART:20070311T020000
RRULE:FREQ=YEARLY;BYMONTH=3;BYDAY=2SU
TZNAME:CDT
END:DAYLIGHT
BEGIN:STANDARD
TZOFFSETFROM:-0500
TZOFFSETTO:-0600
DTSTART:20071104T020000
RRULE:FREQ=YEARLY;BYMONTH=11;BYDAY=1SU
TZNAME:CST
END:STANDARD
END:VTIMEZONE
BEGIN:VEVENT
UID:85ca5a3f-2d6c-4d47-9ce9-1b2c5c3213c8.228312@calendar.missouristate.edu
CREATED:20230616T051506Z
LAST-MODIFIED:20230616T051506Z
LOCATION:Des Moines\, Iowa
SUMMARY:Missouri State University Women's Volleyball at Drake
DESCRIPTION:Missouri State University Women's Volleyball visits DrakeTV: E
 SPN3
X-ALT-DESC;FMTTYPE=text/html:&lt;html&gt;&lt;head&gt;&lt;title&gt;&lt;/title&gt;&lt;/head&gt;&lt;body&gt;Misso
 uri State University Women's Volleyball visits Drake&lt;br&gt;&lt;br&gt;TV: ESPN3&lt;/bo
 dy&gt;&lt;/html&gt;
DTSTART;TZID=America/Chicago:20231014T170000
DTEND;TZID=America/Chicago:20231014T190000
SEQUENCE:0
URL:http://missouristatebears.com/index.aspx?path=wvball
CATEGORIES:Current Students,Future Students,Parents and Family,Alumni,
 Faculty,Staff,Community,Visitors,Athletics
END:VEVENT
END:VCALENDAR