BEGIN:VCALENDAR
VERSION:2.0
METHOD:PUBLISH
PRODID:-//Missouri State University/Calendar of Events//EN
CALSCALE:GREGORIAN
X-WR-TIMEZONE:America/Chicago
BEGIN:VTIMEZONE
TZID:America/Chicago
BEGIN:DAYLIGHT
TZOFFSETFROM:-0600
TZOFFSETTO:-0500
DTSTART:20070311T020000
RRULE:FREQ=YEARLY;BYMONTH=3;BYDAY=2SU
TZNAME:CDT
END:DAYLIGHT
BEGIN:STANDARD
TZOFFSETFROM:-0500
TZOFFSETTO:-0600
DTSTART:20071104T020000
RRULE:FREQ=YEARLY;BYMONTH=11;BYDAY=1SU
TZNAME:CST
END:STANDARD
END:VTIMEZONE
BEGIN:VEVENT
UID:568f0dd4-2bd3-4893-8794-ed9043ab0deb.228319@calendar.missouristate.edu
CREATED:20230616T051507Z
LAST-MODIFIED:20230616T051507Z
LOCATION:Hammons Student Center\, John Q.
SUMMARY:Missouri State University Women's Volleyball vs Bradley - Maroon O
 ut&lt;br /&gt;Club/Team Night ($1 tickets for kids/team members)&lt;br /&gt;$3 adult 
 tickets
DESCRIPTION:Missouri State University Women's Volleyball hosts Bradley - M
 aroon OutClub/Team Night ($1 tickets for kids/team members)$3 adult ticke
 tsTV: ESPN3
X-ALT-DESC;FMTTYPE=text/html:&lt;html&gt;&lt;head&gt;&lt;title&gt;&lt;/title&gt;&lt;/head&gt;&lt;body&gt;Misso
 uri State University Women's Volleyball hosts Bradley - Maroon Out&lt;br /&gt;C
 lub/Team Night ($1 tickets for kids/team members)&lt;br /&gt;$3 adult tickets&lt;b
 r&gt;&lt;br&gt;TV: ESPN3&lt;/body&gt;&lt;/html&gt;
DTSTART;TZID=America/Chicago:20231110T180000
DTEND;TZID=America/Chicago:20231110T200000
SEQUENCE:0
URL:http://missouristatebears.com/index.aspx?path=wvball
CATEGORIES:Current Students,Future Students,Parents and Family,Alumni,
 Faculty,Staff,Community,Visitors,Athletics
END:VEVENT
END:VCALENDAR