BEGIN:VCALENDAR
VERSION:2.0
METHOD:PUBLISH
PRODID:-//Missouri State University/Calendar of Events//EN
CALSCALE:GREGORIAN
X-WR-TIMEZONE:America/Chicago
BEGIN:VTIMEZONE
TZID:America/Chicago
BEGIN:DAYLIGHT
TZOFFSETFROM:-0600
TZOFFSETTO:-0500
DTSTART:20070311T020000
RRULE:FREQ=YEARLY;BYMONTH=3;BYDAY=2SU
TZNAME:CDT
END:DAYLIGHT
BEGIN:STANDARD
TZOFFSETFROM:-0500
TZOFFSETTO:-0600
DTSTART:20071104T020000
RRULE:FREQ=YEARLY;BYMONTH=11;BYDAY=1SU
TZNAME:CST
END:STANDARD
END:VTIMEZONE
BEGIN:VEVENT
UID:df919554-e38e-46fb-b0d6-1d32d43343ed.228348@calendar.missouristate.edu
CREATED:20230621T143505Z
LAST-MODIFIED:20230621T143505Z
LOCATION:Plaster Student Union\, Robert W. North Mall (ICOR: FRC)
SUMMARY:Carnival
DESCRIPTION:SAC is bringing the carnival to campus!\n\n\nWe will have a ba
 lloon artist\, DJ\, caricature artist\, and more.\n\n\nFree food and acti
 vities will be available for all students wanting to join in on the fun.
X-ALT-DESC;FMTTYPE=text/html:&lt;html&gt;&lt;head&gt;&lt;title&gt;&lt;/title&gt;&lt;/head&gt;&lt;body&gt;&lt;p&gt;SA
 C is bringing the carnival to campus!&lt;/p&gt;\n&lt;p&gt;We will have a balloon arti
 st\, DJ\, caricature artist\, and more.&lt;/p&gt;\n&lt;p&gt;Free food and activities 
 will be available for all students wanting to join in on the fun.&lt;/p&gt;&lt;/bo
 dy&gt;&lt;/html&gt;
DTSTART;TZID=America/Chicago:20230825T190000
DTEND;TZID=America/Chicago:20230825T220000
SEQUENCE:0
URL:
CATEGORIES:Current Students
END:VEVENT
END:VCALENDAR