BEGIN:VCALENDAR
VERSION:2.0
METHOD:PUBLISH
PRODID:-//Missouri State University/Calendar of Events//EN
CALSCALE:GREGORIAN
X-WR-TIMEZONE:America/Chicago
BEGIN:VTIMEZONE
TZID:America/Chicago
BEGIN:DAYLIGHT
TZOFFSETFROM:-0600
TZOFFSETTO:-0500
DTSTART:20070311T020000
RRULE:FREQ=YEARLY;BYMONTH=3;BYDAY=2SU
TZNAME:CDT
END:DAYLIGHT
BEGIN:STANDARD
TZOFFSETFROM:-0500
TZOFFSETTO:-0600
DTSTART:20071104T020000
RRULE:FREQ=YEARLY;BYMONTH=11;BYDAY=1SU
TZNAME:CST
END:STANDARD
END:VTIMEZONE
BEGIN:VEVENT
UID:03041bc9-c579-4daf-a998-ae0385b9c0eb.228349@calendar.missouristate.edu
CREATED:20230621T143554Z
LAST-MODIFIED:20230621T143554Z
LOCATION:Plaster Student Union\, Robert W. North Mall (ICOR: Atrium)
SUMMARY:Stuff-a-Boomer
DESCRIPTION:As one of SAC's back-to-school traditions\, we will be hosting
  Stuff-a-Boomer!\n\n\nStudents may come out and stuff their own bear\, pu
 t on its T-shirt\, and get excited to represent Missouri State.\n\n\nThis
  is a grab and go event\, so feel free to join us at your convenience.
X-ALT-DESC;FMTTYPE=text/html:&lt;html&gt;&lt;head&gt;&lt;title&gt;&lt;/title&gt;&lt;/head&gt;&lt;body&gt;&lt;p&gt;As
  one of SAC's back-to-school traditions\, we will be hosting Stuff-a-Boom
 er!&lt;/p&gt;\n&lt;p&gt;Students may come out and stuff their own bear\, put on its T
 -shirt\, and get excited to represent Missouri State.&lt;/p&gt;\n&lt;p&gt;This is a g
 rab and go event\, so feel free to join us at your convenience.&lt;/p&gt;&lt;/body
 &gt;&lt;/html&gt;
DTSTART;TZID=America/Chicago:20230828T110000
DTEND;TZID=America/Chicago:20230828T130000
SEQUENCE:0
URL:
CATEGORIES:Current Students
END:VEVENT
END:VCALENDAR