BEGIN:VCALENDAR
VERSION:2.0
METHOD:PUBLISH
PRODID:-//Missouri State University/Calendar of Events//EN
CALSCALE:GREGORIAN
X-WR-TIMEZONE:America/Chicago
BEGIN:VTIMEZONE
TZID:America/Chicago
BEGIN:DAYLIGHT
TZOFFSETFROM:-0600
TZOFFSETTO:-0500
DTSTART:20070311T020000
RRULE:FREQ=YEARLY;BYMONTH=3;BYDAY=2SU
TZNAME:CDT
END:DAYLIGHT
BEGIN:STANDARD
TZOFFSETFROM:-0500
TZOFFSETTO:-0600
DTSTART:20071104T020000
RRULE:FREQ=YEARLY;BYMONTH=11;BYDAY=1SU
TZNAME:CST
END:STANDARD
END:VTIMEZONE
BEGIN:VEVENT
UID:943ab945-46ba-4f6d-9b17-0be7aca45c7e.228350@calendar.missouristate.edu
CREATED:20230621T143357Z
LAST-MODIFIED:20230621T143357Z
LOCATION:Plaster Student Union\, Robert W. Theater
SUMMARY:Bear Wear Bingo
DESCRIPTION:To welcome students to campus\, SAC will kick off the new scho
 ol year by giving students the chance to win some new Missouri State merc
 h! There will be bingo on the theater screen\, free food\, and plenty of 
 opportunities to win some great prizes from the Missouri State Bookstore.
X-ALT-DESC;FMTTYPE=text/html:&lt;html&gt;&lt;head&gt;&lt;title&gt;&lt;/title&gt;&lt;/head&gt;&lt;body&gt;&lt;p&gt;To
  welcome students to campus\, SAC will kick off the new school year by gi
 ving students the chance to win some new Missouri State merch! There will
  be bingo on the theater screen\, free food\, and plenty of opportunities
  to win some great prizes from the Missouri State Bookstore.&lt;/p&gt;&lt;/body&gt;&lt;/
 html&gt;
DTSTART;TZID=America/Chicago:20230907T190000
DTEND;TZID=America/Chicago:20230907T220000
SEQUENCE:0
URL:
CATEGORIES:Current Students
END:VEVENT
END:VCALENDAR