BEGIN:VCALENDAR
VERSION:2.0
METHOD:PUBLISH
PRODID:-//Missouri State University/Calendar of Events//EN
CALSCALE:GREGORIAN
X-WR-TIMEZONE:America/Chicago
BEGIN:VTIMEZONE
TZID:America/Chicago
BEGIN:DAYLIGHT
TZOFFSETFROM:-0600
TZOFFSETTO:-0500
DTSTART:20070311T020000
RRULE:FREQ=YEARLY;BYMONTH=3;BYDAY=2SU
TZNAME:CDT
END:DAYLIGHT
BEGIN:STANDARD
TZOFFSETFROM:-0500
TZOFFSETTO:-0600
DTSTART:20071104T020000
RRULE:FREQ=YEARLY;BYMONTH=11;BYDAY=1SU
TZNAME:CST
END:STANDARD
END:VTIMEZONE
BEGIN:VEVENT
UID:ec5b4eab-d473-47a3-b7fc-3f401467487b.228354@calendar.missouristate.edu
CREATED:20230621T211830Z
LAST-MODIFIED:20230621T211830Z
LOCATION:Plaster Free Enterprise Center\, Robert W.
SUMMARY:Understanding Your Financial Statements
DESCRIPTION:Business owners\, managers\, accountants\, bankers and consult
 ants need to know how to turn financial statements into useful management
  tools. After attending this financial management series\, you will be ab
 le to make better business decisions based on good financial information.
 In this first class in our financial series\, participants will identify 
 key financial information on a Profit and Loss Statement and on the Balan
 ce Sheet. Participants will also learn how to calculate several financial
  ratios and will understand what those ratios indicate in terms of busine
 ss productivity and success. Overall\, participants will gain a greater u
 nderstanding of how to read and interpret financial documents\, and use t
 hat information to drive business decisions.The second class in the serie
 s is Cash Matters Most – Improving Your Cash Flow on Nov. 8\, 2023\, foll
 owed by the third and final topic\, Planning and Predicting Your Financia
 l Path on Nov. 15\, 2023.
X-ALT-DESC;FMTTYPE=text/html:&lt;html&gt;&lt;head&gt;&lt;title&gt;&lt;/title&gt;&lt;/head&gt;&lt;body&gt;&lt;p&gt;Bu
 siness owners\, managers\, accountants\, bankers and consultants need to 
 know how to turn financial statements into useful management tools. After
  attending this financial management series\, you will be able to make be
 tter business decisions based on good financial information.&lt;br&gt;&lt;br&gt;In th
 is first class in our financial series\, participants will identify key f
 inancial information on a Profit and Loss Statement and on the Balance Sh
 eet. Participants will also learn how to calculate several financial rati
 os and will understand what those ratios indicate in terms of business pr
 oductivity and success. Overall\, participants will gain a greater unders
 tanding of how to read and interpret financial documents\, and use that i
 nformation to drive business decisions.&lt;br&gt;&lt;br&gt;The second class in the se
 ries is Cash Matters Most – Improving Your Cash Flow on Nov. 8\, 2023\, f
 ollowed by the third and final topic\, Planning and Predicting Your Finan
 cial Path on Nov. 15\, 2023.&lt;/p&gt;&lt;/body&gt;&lt;/html&gt;
DTSTART;TZID=America/Chicago:20231101T090000
DTEND;TZID=America/Chicago:20231101T120000
SEQUENCE:0
URL:https://efactory.missouristate.edu/events/understanding-your-financial
 -statements/
CATEGORIES:Public
END:VEVENT
END:VCALENDAR