BEGIN:VCALENDAR
VERSION:2.0
METHOD:PUBLISH
PRODID:-//Missouri State University/Calendar of Events//EN
CALSCALE:GREGORIAN
X-WR-TIMEZONE:America/Chicago
BEGIN:VTIMEZONE
TZID:America/Chicago
BEGIN:DAYLIGHT
TZOFFSETFROM:-0600
TZOFFSETTO:-0500
DTSTART:20070311T020000
RRULE:FREQ=YEARLY;BYMONTH=3;BYDAY=2SU
TZNAME:CDT
END:DAYLIGHT
BEGIN:STANDARD
TZOFFSETFROM:-0500
TZOFFSETTO:-0600
DTSTART:20071104T020000
RRULE:FREQ=YEARLY;BYMONTH=11;BYDAY=1SU
TZNAME:CST
END:STANDARD
END:VTIMEZONE
BEGIN:VEVENT
UID:db6d7d38-922b-410c-a8f2-084ad219b5c6.228355@calendar.missouristate.edu
CREATED:20230621T210117Z
LAST-MODIFIED:20230621T210117Z
LOCATION:Plaster Free Enterprise Center\, Robert W.
SUMMARY:QuickBooks® Online
DESCRIPTION:Are you thinking about using QuickBooks® or already using Quic
 kBooks® Online (QBO) and want to be able to navigate more quickly and use
  the features more efficiently? Our QuickBooks® Online training shows you
  how to utilize the software to document and track the accounting activit
 y of your business\, no need to feel like you have to be an accountant. I
 n this hands-on training\, you will learn how to make QBO work for your b
 usiness through rules\, recurring transactions\, account reconciliation\,
  inventory management\, payroll processing and utilizing financial report
 s.Topics include:• Managing your company account and settings• Recording 
 sales\, expenses and purchases• Understanding the report dashboard and ho
 w to generate reports• Working with asset and liability accounts• Setting
  up recurring transactions• Understanding matching• Reconciling accounts•
  Managing and processing payroll• Analyzing financial data through custom
 ized reports• Benefiting from Intuit approved app add-ons
X-ALT-DESC;FMTTYPE=text/html:&lt;html&gt;&lt;head&gt;&lt;title&gt;&lt;/title&gt;&lt;/head&gt;&lt;body&gt;&lt;p&gt;Ar
 e you thinking about using QuickBooks® or already using QuickBooks® Onlin
 e (QBO) and want to be able to navigate more quickly and use the features
  more efficiently? Our QuickBooks® Online training shows you how to utili
 ze the software to document and track the accounting activity of your bus
 iness\, no need to feel like you have to be an accountant. In this hands-
 on training\, you will learn how to make QBO work for your business throu
 gh rules\, recurring transactions\, account reconciliation\, inventory ma
 nagement\, payroll processing and utilizing financial reports.&lt;br&gt;&lt;br&gt;Top
 ics include:&lt;br&gt;&lt;br&gt;• Managing your company account and settings&lt;br&gt;• Rec
 ording sales\, expenses and purchases&lt;br&gt;• Understanding the report dashb
 oard and how to generate reports&lt;br&gt;• Working with asset and liability ac
 counts&lt;br&gt;• Setting up recurring transactions&lt;br&gt;• Understanding matching
 &lt;br&gt;• Reconciling accounts&lt;br&gt;• Managing and processing payroll&lt;br&gt;• Anal
 yzing financial data through customized reports&lt;br&gt;• Benefiting from Intu
 it approved app add-ons&lt;/p&gt;&lt;/body&gt;&lt;/html&gt;
DTSTART;TZID=America/Chicago:20231011T083000
DTEND;TZID=America/Chicago:20231011T123000
SEQUENCE:0
URL:https://efactory.missouristate.edu/events/quickbooks-online/
CATEGORIES:Public
END:VEVENT
END:VCALENDAR