BEGIN:VCALENDAR
VERSION:2.0
METHOD:PUBLISH
PRODID:-//Missouri State University/Calendar of Events//EN
CALSCALE:GREGORIAN
X-WR-TIMEZONE:America/Chicago
BEGIN:VTIMEZONE
TZID:America/Chicago
BEGIN:DAYLIGHT
TZOFFSETFROM:-0600
TZOFFSETTO:-0500
DTSTART:20070311T020000
RRULE:FREQ=YEARLY;BYMONTH=3;BYDAY=2SU
TZNAME:CDT
END:DAYLIGHT
BEGIN:STANDARD
TZOFFSETFROM:-0500
TZOFFSETTO:-0600
DTSTART:20071104T020000
RRULE:FREQ=YEARLY;BYMONTH=11;BYDAY=1SU
TZNAME:CST
END:STANDARD
END:VTIMEZONE
BEGIN:VEVENT
UID:e2b0e7ca-88c1-4093-b74d-8e3c83f77351.228357@calendar.missouristate.edu
CREATED:20230621T210153Z
LAST-MODIFIED:20230621T210153Z
LOCATION:
SUMMARY:MTC Idea Fund Co-Investment Programs Webinar
DESCRIPTION:The Missouri Technology Corporation (MTC) is now accepting app
 lications for its IDEA Fund Co-Investment Programs. To date\, MTC has mad
 e direct investments of over $45 million into just under 140 of the state
 ’s most promising early-stage technology-focused companies and those comp
 anies have raised over $1.1 billion in follow-on private funding.This fre
 e webinar offers the opportunity to learn more about MTC’s IDEA Fund Co-I
 nvestment Programs from Julia Campbell\, MTC’s IDEA Fund manager\, and de
 termine if your company is a fit for the state-sponsored early-stage inve
 stment program. You’ll also learn about the resources available at the Mi
 ssouri SBDC at Missouri State University and how we can assist with your 
 MTC application. Applications will close on Aug. 9\, 2023\, at 11:59 p.m.
 \n\n\nMTC is a public-private partnership created by the Missouri General
  Assembly to promote entrepreneurship and foster the growth of new and em
 erging high-tech companies within the state.Register to attend this event.
X-ALT-DESC;FMTTYPE=text/html:&lt;html&gt;&lt;head&gt;&lt;title&gt;&lt;/title&gt;&lt;/head&gt;&lt;body&gt;&lt;p&gt;Th
 e Missouri Technology Corporation (MTC) is now accepting applications for
  its IDEA Fund Co-Investment Programs. To date\, MTC has made direct inve
 stments of over $45 million into just under 140 of the state’s most promi
 sing early-stage technology-focused companies and those companies have ra
 ised over $1.1 billion in follow-on private funding.&lt;br&gt;&lt;br&gt;This free web
 inar offers the opportunity to learn more about MTC’s IDEA Fund Co-Invest
 ment Programs from Julia Campbell\, MTC’s IDEA Fund manager\, and determi
 ne if your company is a fit for the state-sponsored early-stage investmen
 t program. You’ll also learn about the resources available at the Missour
 i SBDC at Missouri State University and how we can assist with your MTC a
 pplication. &lt;strong&gt;Applications will close on Aug. 9\, 2023\, at 11:59 p
 .m.&lt;/strong&gt;&lt;/p&gt;\n&lt;p&gt;MTC is a public-private partnership created by the M
 issouri General Assembly to promote entrepreneurship and foster the growt
 h of new and emerging high-tech companies within the state.&lt;br&gt;&lt;br&gt;&lt;a hre
 f="https://missouri.ecenterdirect.com/events/24628"&gt;Register&lt;/a&gt;&amp;nbsp\;to
  attend this event.&lt;/p&gt;&lt;/body&gt;&lt;/html&gt;
DTSTART;TZID=America/Chicago:20230711T120000
DTEND;TZID=America/Chicago:20230711T130000
SEQUENCE:1
URL:https://efactory.missouristate.edu/events/mtc-idea-fund-co-investment-
 programs-webinar/
CATEGORIES:Public
END:VEVENT
END:VCALENDAR