BEGIN:VCALENDAR
VERSION:2.0
METHOD:PUBLISH
PRODID:-//Missouri State University/Calendar of Events//EN
CALSCALE:GREGORIAN
X-WR-TIMEZONE:America/Chicago
BEGIN:VTIMEZONE
TZID:America/Chicago
BEGIN:DAYLIGHT
TZOFFSETFROM:-0600
TZOFFSETTO:-0500
DTSTART:20070311T020000
RRULE:FREQ=YEARLY;BYMONTH=3;BYDAY=2SU
TZNAME:CDT
END:DAYLIGHT
BEGIN:STANDARD
TZOFFSETFROM:-0500
TZOFFSETTO:-0600
DTSTART:20071104T020000
RRULE:FREQ=YEARLY;BYMONTH=11;BYDAY=1SU
TZNAME:CST
END:STANDARD
END:VTIMEZONE
BEGIN:VEVENT
UID:62682ff2-5879-4721-bf4f-03bc371869cd.228359@calendar.missouristate.edu
CREATED:20230629T154021Z
LAST-MODIFIED:20230629T154021Z
LOCATION:Plaster Free Enterprise Center\, Robert W.
SUMMARY:Cash Matters Most – Improving Your Cash Flow
DESCRIPTION:In this second class of our financial management series\, we'l
 l take a close look at where cash comes from in a small business\, where 
 it's used in day-to-day operations and how to identify and correct cash f
 low problems. You'll be able to identify key information on cash flow sta
 tements and be able to follow the path of cash as it travels through your
  company. You'll identify cash flow strategies to use in your organizatio
 n. You'll become familiar with the sources and uses of cash\, ratios and 
 the most common "gobblers" of cash in any business. This isn't theory - i
 t's practical application for real businesses - like yours!The third and 
 final course in this series is the Planning &amp; Predicting Your Financial P
 ath on Nov. 15\, 2023.
X-ALT-DESC;FMTTYPE=text/html:&lt;html&gt;&lt;head&gt;&lt;title&gt;&lt;/title&gt;&lt;/head&gt;&lt;body&gt;&lt;p&gt;&lt;s
 pan&gt;In this second class of our financial management series\, we'll take 
 a close look at where cash comes from in a small business\, where it's us
 ed in day-to-day operations and how to identify and correct cash flow pro
 blems. You'll be able to identify key information on cash flow statements
  and be able to follow the path of cash as it travels through your compan
 y. You'll identify cash flow strategies to use in your organization. You'
 ll become familiar with the sources and uses of cash\, ratios and the mos
 t common "gobblers" of cash in any business. This isn't theory - it's pra
 ctical application for real businesses - like yours!&lt;br&gt;&lt;br&gt;The third and
  final course in this series is the Planning &amp;amp\; Predicting Your Finan
 cial Path on Nov. 15\, 2023.&lt;/span&gt;&lt;/p&gt;&lt;/body&gt;&lt;/html&gt;
DTSTART;TZID=America/Chicago:20231108T090000
DTEND;TZID=America/Chicago:20231108T120000
SEQUENCE:0
URL:https://missouri.ecenterdirect.com/events/24627
CATEGORIES:Public
END:VEVENT
END:VCALENDAR