BEGIN:VCALENDAR
VERSION:2.0
METHOD:PUBLISH
PRODID:-//Missouri State University/Calendar of Events//EN
CALSCALE:GREGORIAN
X-WR-TIMEZONE:America/Chicago
BEGIN:VTIMEZONE
TZID:America/Chicago
BEGIN:DAYLIGHT
TZOFFSETFROM:-0600
TZOFFSETTO:-0500
DTSTART:20070311T020000
RRULE:FREQ=YEARLY;BYMONTH=3;BYDAY=2SU
TZNAME:CDT
END:DAYLIGHT
BEGIN:STANDARD
TZOFFSETFROM:-0500
TZOFFSETTO:-0600
DTSTART:20071104T020000
RRULE:FREQ=YEARLY;BYMONTH=11;BYDAY=1SU
TZNAME:CST
END:STANDARD
END:VTIMEZONE
BEGIN:VEVENT
UID:00000000-0000-0000-0000-000000000000.228361@calendar.missouristate.edu
CREATED:20230622T214506Z
LAST-MODIFIED:20230622T214506Z
LOCATION:To Be Determined
SUMMARY:Tent Theatre 60th Anniversary
DESCRIPTION:Tent Theatre and Theatre and Dance Alumni are invited to an al
 l-day celebration for Tent Theatre's 60th Anniversary on June 24\, 2023. 
 Register to attend events throughout the day.
X-ALT-DESC;FMTTYPE=text/html:&lt;html&gt;&lt;head&gt;&lt;title&gt;&lt;/title&gt;&lt;/head&gt;&lt;body&gt;Tent 
 Theatre and Theatre and Dance Alumni&amp;nbsp\;are invited to an all-day cele
 bration for Tent Theatre's 60th Anniversary on June 24\, 2023. Register t
 o attend events throughout the day.&lt;/body&gt;&lt;/html&gt;
DTSTART;TZID=America/Chicago:20230624T120000
DTEND;TZID=America/Chicago:20230624T153000
SEQUENCE:0
URL:https://missouristate.imodules.com?sid=1691&amp;gid=2&amp;pgid=3152&amp;cid=5492&amp;e
 cid=5492&amp;ciid=18783&amp;crid=0
CATEGORIES:Public,Alumni,Parents and Family,Visitors
END:VEVENT
END:VCALENDAR