BEGIN:VCALENDAR
VERSION:2.0
METHOD:PUBLISH
PRODID:-//Missouri State University/Calendar of Events//EN
CALSCALE:GREGORIAN
X-WR-TIMEZONE:America/Chicago
BEGIN:VTIMEZONE
TZID:America/Chicago
BEGIN:DAYLIGHT
TZOFFSETFROM:-0600
TZOFFSETTO:-0500
DTSTART:20070311T020000
RRULE:FREQ=YEARLY;BYMONTH=3;BYDAY=2SU
TZNAME:CDT
END:DAYLIGHT
BEGIN:STANDARD
TZOFFSETFROM:-0500
TZOFFSETTO:-0600
DTSTART:20071104T020000
RRULE:FREQ=YEARLY;BYMONTH=11;BYDAY=1SU
TZNAME:CST
END:STANDARD
END:VTIMEZONE
BEGIN:VEVENT
UID:cd314231-ceba-406b-9d96-c36a54759da2_10040@calendar.missouristate.edu
CREATED:20230710T230936Z
LAST-MODIFIED:20230710T230936Z
LOCATION:
SUMMARY:Unfolding the Map\, work by Sharon Harper 
DESCRIPTION:Part of the ongoing emeritus series\, Unfolding the Map featur
 es work in painting\, drawing\, ceramics and crochet that use visual meta
 phors and self-portraits to create a personal narrative of Harper’s own l
 ife experiences.\n\n\n“My process of working has not changed much over th
 e years: I respond to my current thoughts\, surroundings and materials to
  find my way. Not sure of what will come next\, my map unfolds as the jou
 rney continues.”\n\n\nUnfolding the Map is open July 7-Aug. 4.\n\n\nOur s
 ummer hours are Monday: 11 a.m.-3 p.m. and Tuesday-Friday: 11 a.m.-6 p.m.
 \n\n\nThe opening reception will be held in coordination with First Frida
 y Art Walk\, July 7 from 6-8 p.m. The closing reception will also be held
  in coordination with First Friday Art Walk\, Aug. 4\, 6-8 p.m. Food and 
 beverage will be available.
X-ALT-DESC;FMTTYPE=text/html:&lt;html&gt;&lt;head&gt;&lt;title&gt;&lt;/title&gt;&lt;/head&gt;&lt;body&gt;&lt;p&gt;Pa
 rt of the ongoing emeritus series\, Unfolding the Map features work in pa
 inting\, drawing\, ceramics and crochet that use visual metaphors and sel
 f-portraits to create a personal narrative of Harper’s own life experienc
 es.&lt;/p&gt;\n&lt;p&gt;“My process of working has not changed much over the years: I
  respond to my current thoughts\, surroundings and materials to find my w
 ay. Not sure of what will come next\, my map unfolds as the journey conti
 nues.”&lt;/p&gt;\n&lt;p&gt;Unfolding the Map is open July 7-Aug. 4.&lt;/p&gt;\n&lt;p&gt;Our summe
 r hours are Monday: 11 a.m.-3 p.m. and Tuesday-Friday: 11 a.m.-6 p.m.&lt;/p&gt;
 \n&lt;p&gt;The opening reception will be held in coordination with First Friday
  Art Walk\, July 7 from 6-8 p.m. The closing reception will also be held 
 in coordination with First Friday Art Walk\, Aug. 4\, 6-8 p.m. Food and b
 everage will be available.&lt;/p&gt;&lt;/body&gt;&lt;/html&gt;
DTSTART;TZID=America/Chicago:20230705T110000
DTEND;TZID=America/Chicago:20230705T060000
RRULE:FREQ=WEEKLY;BYDAY=MO,TU,WE,TH;UNTIL=20230805
SEQUENCE:0
URL:https://brickcitygallery.missouristate.edu/
CATEGORIES:Public,Alumni,Current Students,Faculty,Future Students,Staff
END:VEVENT
BEGIN:VEVENT
UID:cd314231-ceba-406b-9d96-c36a54759da2.228385@calendar.missouristate.edu
CREATED:20230710T230936Z
LAST-MODIFIED:20230710T230936Z
LOCATION:
SUMMARY:Unfolding the Map\, work by Sharon Harper 
DESCRIPTION:Part of the ongoing emeritus series\, Unfolding the Map featur
 es work in painting\, drawing\, ceramics and crochet that use visual meta
 phors and self-portraits to create a personal narrative of Harper’s own l
 ife experiences.\n\n\n“My process of working has not changed much over th
 e years: I respond to my current thoughts\, surroundings and materials to
  find my way. Not sure of what will come next\, my map unfolds as the jou
 rney continues.”\n\n\nUnfolding the Map is open July 7-Aug. 4.\n\n\nOur s
 ummer hours are Monday: 11 a.m.-3 p.m. and Tuesday-Friday: 11 a.m.-6 p.m.
 \n\n\nThe opening reception will be held in coordination with First Frida
 y Art Walk\, July 7 from 6-8 p.m. The closing reception will also be held
  in coordination with First Friday Art Walk\, Aug. 4\, 6-8 p.m. Food and 
 beverage will be available.
X-ALT-DESC;FMTTYPE=text/html:&lt;html&gt;&lt;head&gt;&lt;title&gt;&lt;/title&gt;&lt;/head&gt;&lt;body&gt;&lt;p&gt;Pa
 rt of the ongoing emeritus series\, Unfolding the Map features work in pa
 inting\, drawing\, ceramics and crochet that use visual metaphors and sel
 f-portraits to create a personal narrative of Harper’s own life experienc
 es.&lt;/p&gt;\n&lt;p&gt;“My process of working has not changed much over the years: I
  respond to my current thoughts\, surroundings and materials to find my w
 ay. Not sure of what will come next\, my map unfolds as the journey conti
 nues.”&lt;/p&gt;\n&lt;p&gt;Unfolding the Map is open July 7-Aug. 4.&lt;/p&gt;\n&lt;p&gt;Our summe
 r hours are Monday: 11 a.m.-3 p.m. and Tuesday-Friday: 11 a.m.-6 p.m.&lt;/p&gt;
 \n&lt;p&gt;The opening reception will be held in coordination with First Friday
  Art Walk\, July 7 from 6-8 p.m. The closing reception will also be held 
 in coordination with First Friday Art Walk\, Aug. 4\, 6-8 p.m. Food and b
 everage will be available.&lt;/p&gt;&lt;/body&gt;&lt;/html&gt;
DTSTART;TZID=America/Chicago:20230707T180000
DTEND;TZID=America/Chicago:20230707T200000
SEQUENCE:0
URL:https://brickcitygallery.missouristate.edu/
CATEGORIES:Public,Alumni,Current Students,Faculty,Future Students,Staff
END:VEVENT
BEGIN:VEVENT
UID:cd314231-ceba-406b-9d96-c36a54759da2_10041@calendar.missouristate.edu
CREATED:20230710T230936Z
LAST-MODIFIED:20230710T230936Z
LOCATION:
SUMMARY:Unfolding the Map\, work by Sharon Harper 
DESCRIPTION:Part of the ongoing emeritus series\, Unfolding the Map featur
 es work in painting\, drawing\, ceramics and crochet that use visual meta
 phors and self-portraits to create a personal narrative of Harper’s own l
 ife experiences.\n\n\n“My process of working has not changed much over th
 e years: I respond to my current thoughts\, surroundings and materials to
  find my way. Not sure of what will come next\, my map unfolds as the jou
 rney continues.”\n\n\nUnfolding the Map is open July 7-Aug. 4.\n\n\nOur s
 ummer hours are Monday: 11 a.m.-3 p.m. and Tuesday-Friday: 11 a.m.-6 p.m.
 \n\n\nThe opening reception will be held in coordination with First Frida
 y Art Walk\, July 7 from 6-8 p.m. The closing reception will also be held
  in coordination with First Friday Art Walk\, Aug. 4\, 6-8 p.m. Food and 
 beverage will be available.
X-ALT-DESC;FMTTYPE=text/html:&lt;html&gt;&lt;head&gt;&lt;title&gt;&lt;/title&gt;&lt;/head&gt;&lt;body&gt;&lt;p&gt;Pa
 rt of the ongoing emeritus series\, Unfolding the Map features work in pa
 inting\, drawing\, ceramics and crochet that use visual metaphors and sel
 f-portraits to create a personal narrative of Harper’s own life experienc
 es.&lt;/p&gt;\n&lt;p&gt;“My process of working has not changed much over the years: I
  respond to my current thoughts\, surroundings and materials to find my w
 ay. Not sure of what will come next\, my map unfolds as the journey conti
 nues.”&lt;/p&gt;\n&lt;p&gt;Unfolding the Map is open July 7-Aug. 4.&lt;/p&gt;\n&lt;p&gt;Our summe
 r hours are Monday: 11 a.m.-3 p.m. and Tuesday-Friday: 11 a.m.-6 p.m.&lt;/p&gt;
 \n&lt;p&gt;The opening reception will be held in coordination with First Friday
  Art Walk\, July 7 from 6-8 p.m. The closing reception will also be held 
 in coordination with First Friday Art Walk\, Aug. 4\, 6-8 p.m. Food and b
 everage will be available.&lt;/p&gt;&lt;/body&gt;&lt;/html&gt;
DTSTART;TZID=America/Chicago:20230710T110000
DTEND;TZID=America/Chicago:20230710T150000
RRULE:FREQ=WEEKLY;BYDAY=SU;UNTIL=20230801
SEQUENCE:0
URL:https://brickcitygallery.missouristate.edu/
CATEGORIES:Public,Alumni,Current Students,Faculty,Future Students,Staff
END:VEVENT
END:VCALENDAR