BEGIN:VCALENDAR
VERSION:2.0
METHOD:PUBLISH
PRODID:-//Missouri State University/Calendar of Events//EN
CALSCALE:GREGORIAN
X-WR-TIMEZONE:America/Chicago
BEGIN:VTIMEZONE
TZID:America/Chicago
BEGIN:DAYLIGHT
TZOFFSETFROM:-0600
TZOFFSETTO:-0500
DTSTART:20070311T020000
RRULE:FREQ=YEARLY;BYMONTH=3;BYDAY=2SU
TZNAME:CDT
END:DAYLIGHT
BEGIN:STANDARD
TZOFFSETFROM:-0500
TZOFFSETTO:-0600
DTSTART:20071104T020000
RRULE:FREQ=YEARLY;BYMONTH=11;BYDAY=1SU
TZNAME:CST
END:STANDARD
END:VTIMEZONE
BEGIN:VEVENT
UID:5e70d1f4-d530-4c3b-8b60-3672373e5b95.228388@calendar.missouristate.edu
CREATED:20230626T180127Z
LAST-MODIFIED:20230626T180127Z
LOCATION:Plaster Student Union\, Robert W. Atrium
SUMMARY:SAC Membership Tabling
DESCRIPTION:SAC will be tabling to give you an opportunity to get involved
  on campus! Come meet some of our members to hear about our organization.
X-ALT-DESC;FMTTYPE=text/html:&lt;html&gt;&lt;head&gt;&lt;title&gt;&lt;/title&gt;&lt;/head&gt;&lt;body&gt;&lt;p&gt;SA
 C will be tabling to give you an opportunity to get involved on campus! C
 ome meet some of our members to hear about our organization.&lt;/p&gt;&lt;/body&gt;&lt;/
 html&gt;
DTSTART;TZID=America/Chicago:20230828T140000
DTEND;TZID=America/Chicago:20230828T154500
SEQUENCE:0
URL:
CATEGORIES:Current Students
END:VEVENT
END:VCALENDAR