BEGIN:VCALENDAR
VERSION:2.0
METHOD:PUBLISH
PRODID:-//Missouri State University/Calendar of Events//EN
CALSCALE:GREGORIAN
X-WR-TIMEZONE:America/Chicago
BEGIN:VTIMEZONE
TZID:America/Chicago
BEGIN:DAYLIGHT
TZOFFSETFROM:-0600
TZOFFSETTO:-0500
DTSTART:20070311T020000
RRULE:FREQ=YEARLY;BYMONTH=3;BYDAY=2SU
TZNAME:CDT
END:DAYLIGHT
BEGIN:STANDARD
TZOFFSETFROM:-0500
TZOFFSETTO:-0600
DTSTART:20071104T020000
RRULE:FREQ=YEARLY;BYMONTH=11;BYDAY=1SU
TZNAME:CST
END:STANDARD
END:VTIMEZONE
BEGIN:VEVENT
UID:b206b701-6a32-4ff6-843c-78561fef2b63.228458@calendar.missouristate.edu
CREATED:20240126T222616Z
LAST-MODIFIED:20240126T222616Z
LOCATION:Nichols B &amp; C
SUMMARY:Board of Governors Retreat
DESCRIPTION:The Missouri State University Board of Governors will hold its
  annual retreat.\n\n\n\n\n\nMeeting agendas can be found here: \n\n\n\nht
 tps://www.missouristate.edu/BOG/Agendas/
X-ALT-DESC;FMTTYPE=text/html:&lt;html&gt;&lt;head&gt;&lt;title&gt;&lt;/title&gt;&lt;/head&gt;&lt;body&gt;&lt;p&gt;Th
 e Missouri State University Board of Governors will hold its annual retre
 at.&lt;/p&gt;\n&lt;p&gt;&lt;/p&gt;\n&lt;p&gt;Meeting agendas can be found here:&amp;nbsp\;&lt;/p&gt;\n&lt;ul&gt;\
 n&lt;li&gt;&lt;span color="#0a0a0a"&gt;&lt;a href="https://www.missouristate.edu/BOG/Age
 ndas/"&gt;https://www.missouristate.edu/BOG/Agendas/&lt;/a&gt;&lt;/span&gt;&lt;/li&gt;\n&lt;/ul&gt;&lt;
 /body&gt;&lt;/html&gt;
DTSTART;TZID=America/Chicago:20230803T130000
DTEND;TZID=America/Chicago:20230803T170000
SEQUENCE:0
URL:https://www.missouristate.edu/BOG/
CATEGORIES:Public,Current Students,Faculty,Staff
END:VEVENT
END:VCALENDAR