BEGIN:VCALENDAR
VERSION:2.0
METHOD:PUBLISH
PRODID:-//Missouri State University/Calendar of Events//EN
CALSCALE:GREGORIAN
X-WR-TIMEZONE:America/Chicago
BEGIN:VTIMEZONE
TZID:America/Chicago
BEGIN:DAYLIGHT
TZOFFSETFROM:-0600
TZOFFSETTO:-0500
DTSTART:20070311T020000
RRULE:FREQ=YEARLY;BYMONTH=3;BYDAY=2SU
TZNAME:CDT
END:DAYLIGHT
BEGIN:STANDARD
TZOFFSETFROM:-0500
TZOFFSETTO:-0600
DTSTART:20071104T020000
RRULE:FREQ=YEARLY;BYMONTH=11;BYDAY=1SU
TZNAME:CST
END:STANDARD
END:VTIMEZONE
BEGIN:VEVENT
UID:3a7e8065-4af7-41b3-833d-cfbd9dbf1ce6.228466@calendar.missouristate.edu
CREATED:20230628T164259Z
LAST-MODIFIED:20230628T164259Z
LOCATION:Plaster Student Union\, Robert W. Theater
SUMMARY:Public Affairs Conference Speaker
DESCRIPTION:SAC is representing a speaker at the Public Affairs Conference
  hosted at Missouri State University! \n\n\nOur theme for the PA Conferen
 ce is "Navigating the Now" which is all about how we can create global ch
 ange by learning from the past and bettering ourselves for the future.
X-ALT-DESC;FMTTYPE=text/html:&lt;html&gt;&lt;head&gt;&lt;title&gt;&lt;/title&gt;&lt;/head&gt;&lt;body&gt;&lt;p&gt;&lt;s
 pan&gt;SAC is representing a speaker at the Public Affairs Conference hosted
  at Missouri State University! &lt;/span&gt;&lt;/p&gt;\n&lt;p&gt;&lt;span&gt;Our theme for the PA
  Conference is "Navigating the Now" which is all about how we can create 
 global change by learning from the past and bettering ourselves for the f
 uture.&lt;/span&gt;&lt;/p&gt;&lt;/body&gt;&lt;/html&gt;
DTSTART;TZID=America/Chicago:20230927T190000
DTEND;TZID=America/Chicago:20230927T200000
SEQUENCE:0
URL:
CATEGORIES:Public,Current Students
END:VEVENT
END:VCALENDAR