BEGIN:VCALENDAR
VERSION:2.0
METHOD:PUBLISH
PRODID:-//Missouri State University/Calendar of Events//EN
CALSCALE:GREGORIAN
X-WR-TIMEZONE:America/Chicago
BEGIN:VTIMEZONE
TZID:America/Chicago
BEGIN:DAYLIGHT
TZOFFSETFROM:-0600
TZOFFSETTO:-0500
DTSTART:20070311T020000
RRULE:FREQ=YEARLY;BYMONTH=3;BYDAY=2SU
TZNAME:CDT
END:DAYLIGHT
BEGIN:STANDARD
TZOFFSETFROM:-0500
TZOFFSETTO:-0600
DTSTART:20071104T020000
RRULE:FREQ=YEARLY;BYMONTH=11;BYDAY=1SU
TZNAME:CST
END:STANDARD
END:VTIMEZONE
BEGIN:VEVENT
UID:cb1ae238-1d8b-4e20-98e6-f3bf069fda8f.228467@calendar.missouristate.edu
CREATED:20231002T194424Z
LAST-MODIFIED:20231002T194424Z
LOCATION:Plaster Student Union\, Robert W. Theater
SUMMARY:LGBTQ+ History Month Speaker: Kayden Coleman
DESCRIPTION:Student Activities Council will bring Kayden Coleman to campus
  to celebrate LGBTQ+ History Month and create conversations about the com
 munity. \n\n\nColeman is an American transgender advocate\, educator and 
 social media influencer.\n\n\nIt will allow for attendees to understand t
 he perspectives and culture of those around them\, specifically the LGBTQ
 + community.
X-ALT-DESC;FMTTYPE=text/html:&lt;html&gt;&lt;head&gt;&lt;title&gt;&lt;/title&gt;&lt;/head&gt;&lt;body&gt;&lt;p&gt;&lt;s
 pan&gt;Student Activities Council will bring Kayden Coleman to campus to cel
 ebrate LGBTQ+ History Month and create conversations about the community.
  &lt;/span&gt;&lt;/p&gt;\n&lt;p&gt;&lt;span&gt;Coleman is an American transgender advocate\, educ
 ator and social media influencer.&lt;/span&gt;&lt;/p&gt;\n&lt;p&gt;&lt;span&gt;It will allow for 
 attendees to understand the perspectives and culture of those around them
 \, specifically the LGBTQ+ community. &lt;/span&gt;&lt;/p&gt;&lt;/body&gt;&lt;/html&gt;
DTSTART;TZID=America/Chicago:20231010T190000
DTEND;TZID=America/Chicago:20231010T200000
SEQUENCE:1
URL:119766.jpg
CATEGORIES:Public,Alumni,Current Students,Faculty,Staff
END:VEVENT
END:VCALENDAR