BEGIN:VCALENDAR
VERSION:2.0
METHOD:PUBLISH
PRODID:-//Missouri State University/Calendar of Events//EN
CALSCALE:GREGORIAN
X-WR-TIMEZONE:America/Chicago
BEGIN:VTIMEZONE
TZID:America/Chicago
BEGIN:DAYLIGHT
TZOFFSETFROM:-0600
TZOFFSETTO:-0500
DTSTART:20070311T020000
RRULE:FREQ=YEARLY;BYMONTH=3;BYDAY=2SU
TZNAME:CDT
END:DAYLIGHT
BEGIN:STANDARD
TZOFFSETFROM:-0500
TZOFFSETTO:-0600
DTSTART:20071104T020000
RRULE:FREQ=YEARLY;BYMONTH=11;BYDAY=1SU
TZNAME:CST
END:STANDARD
END:VTIMEZONE
BEGIN:VEVENT
UID:d83450d2-b4c9-4caf-9fb0-63a7cf42c63a.228468@calendar.missouristate.edu
CREATED:20230628T170457Z
LAST-MODIFIED:20230628T170457Z
LOCATION:Plaster Student Union\, Robert W. Atrium
SUMMARY:Org Fair
DESCRIPTION:SAC will bring nonprofit organizations to campus to showcase t
 he many volunteer opportunities in the Springfield area. \n\n\nA sample o
 f the organizations we invite are the Boys and Girls Club\, Big Brother-B
 ig Sisters of the Ozarks\, Champion Athletes of the Ozarks and many more!
  \n\n\nLast year's event was such a success and this year's event will be
  bigger and better.
X-ALT-DESC;FMTTYPE=text/html:&lt;html&gt;&lt;head&gt;&lt;title&gt;&lt;/title&gt;&lt;/head&gt;&lt;body&gt;&lt;p&gt;&lt;s
 pan&gt;SAC will bring nonprofit organizations to campus to showcase the many
  volunteer opportunities in the Springfield area. &lt;/span&gt;&lt;/p&gt;\n&lt;p&gt;&lt;span&gt;A
  sample of the organizations we invite are the Boys and Girls Club\, Big 
 Brother-Big Sisters of the Ozarks\, Champion Athletes of the Ozarks and m
 any more! &lt;/span&gt;&lt;/p&gt;\n&lt;p&gt;&lt;span&gt;Last year's event was such a success and 
 this year's event will be bigger and better.&lt;br&gt;&lt;/span&gt;&lt;/p&gt;&lt;/body&gt;&lt;/html&gt;
DTSTART;TZID=America/Chicago:20231024T110000
DTEND;TZID=America/Chicago:20231024T140000
SEQUENCE:1
URL:
CATEGORIES:Current Students,Faculty,Staff
END:VEVENT
END:VCALENDAR