BEGIN:VCALENDAR
VERSION:2.0
METHOD:PUBLISH
PRODID:-//Missouri State University/Calendar of Events//EN
CALSCALE:GREGORIAN
X-WR-TIMEZONE:America/Chicago
BEGIN:VTIMEZONE
TZID:America/Chicago
BEGIN:DAYLIGHT
TZOFFSETFROM:-0600
TZOFFSETTO:-0500
DTSTART:20070311T020000
RRULE:FREQ=YEARLY;BYMONTH=3;BYDAY=2SU
TZNAME:CDT
END:DAYLIGHT
BEGIN:STANDARD
TZOFFSETFROM:-0500
TZOFFSETTO:-0600
DTSTART:20071104T020000
RRULE:FREQ=YEARLY;BYMONTH=11;BYDAY=1SU
TZNAME:CST
END:STANDARD
END:VTIMEZONE
BEGIN:VEVENT
UID:8fc0e648-69e0-499a-9182-c332bdf736ff.228469@calendar.missouristate.edu
CREATED:20230628T165130Z
LAST-MODIFIED:20230628T165130Z
LOCATION:Plaster Student Union\, Robert W. Food Court
SUMMARY:Family Weekend Bingo
DESCRIPTION:SAC is co-programming with Family Programs to bring bingo to y
 ou and your families during Family Weekend.\n\n\nWe will have prizes from
  the bookstore for students and their families to win.
X-ALT-DESC;FMTTYPE=text/html:&lt;html&gt;&lt;head&gt;&lt;title&gt;&lt;/title&gt;&lt;/head&gt;&lt;body&gt;&lt;p&gt;SA
 C is co-programming with Family Programs to bring bingo to you and your f
 amilies during Family Weekend.&lt;/p&gt;\n&lt;p&gt;We will have prizes from the books
 tore for students and their families to win.&lt;/p&gt;&lt;/body&gt;&lt;/html&gt;
DTSTART;TZID=America/Chicago:20230922T190000
DTEND;TZID=America/Chicago:20230922T203000
SEQUENCE:0
URL:https://calendar.missouristate.edu/viewevent.aspx?eventid=119768&amp;occur
 renceid=228469
CATEGORIES:Current Students,Faculty,Staff
END:VEVENT
END:VCALENDAR