BEGIN:VCALENDAR
VERSION:2.0
METHOD:PUBLISH
PRODID:-//Missouri State University/Calendar of Events//EN
CALSCALE:GREGORIAN
X-WR-TIMEZONE:America/Chicago
BEGIN:VTIMEZONE
TZID:America/Chicago
BEGIN:DAYLIGHT
TZOFFSETFROM:-0600
TZOFFSETTO:-0500
DTSTART:20070311T020000
RRULE:FREQ=YEARLY;BYMONTH=3;BYDAY=2SU
TZNAME:CDT
END:DAYLIGHT
BEGIN:STANDARD
TZOFFSETFROM:-0500
TZOFFSETTO:-0600
DTSTART:20071104T020000
RRULE:FREQ=YEARLY;BYMONTH=11;BYDAY=1SU
TZNAME:CST
END:STANDARD
END:VTIMEZONE
BEGIN:VEVENT
UID:f94a90ce-77c4-44ee-ae98-5f5d1294651a.228470@calendar.missouristate.edu
CREATED:20230628T170135Z
LAST-MODIFIED:20230628T170135Z
LOCATION:Plaster Student Union\, Robert W. North Mall ICOR: PSU Theater
SUMMARY:The Little Mermaid with the Residence Hall Association
DESCRIPTION:Take a trip under the sea with RHA and SAC in this special out
 side showing of the remake of "Little Mermaid". \n\n\nWith the help of RH
 A's bubble machine\, we will be transported into the film itself to be a 
 part of their world. \n\n\nThere will also be a small prize.
X-ALT-DESC;FMTTYPE=text/html:&lt;html&gt;&lt;head&gt;&lt;title&gt;&lt;/title&gt;&lt;/head&gt;&lt;body&gt;&lt;p&gt;&lt;s
 pan&gt;Take a trip under the sea with RHA and SAC in this special outside sh
 owing of the remake of "Little Mermaid". &lt;/span&gt;&lt;/p&gt;\n&lt;p&gt;&lt;span&gt;With the h
 elp of RHA's bubble machine\, we will be transported into the film itself
  to be a part of their world. &lt;/span&gt;&lt;/p&gt;\n&lt;p&gt;&lt;span&gt;There will also be a 
 small prize. &lt;/span&gt;&lt;/p&gt;&lt;/body&gt;&lt;/html&gt;
DTSTART;TZID=America/Chicago:20230929T000000
DTEND;TZID=America/Chicago:20230929T000000
SEQUENCE:0
URL:
CATEGORIES:Current Students,Faculty,Staff
END:VEVENT
END:VCALENDAR