BEGIN:VCALENDAR
VERSION:2.0
METHOD:PUBLISH
PRODID:-//Missouri State University/Calendar of Events//EN
CALSCALE:GREGORIAN
X-WR-TIMEZONE:America/Chicago
BEGIN:VTIMEZONE
TZID:America/Chicago
BEGIN:DAYLIGHT
TZOFFSETFROM:-0600
TZOFFSETTO:-0500
DTSTART:20070311T020000
RRULE:FREQ=YEARLY;BYMONTH=3;BYDAY=2SU
TZNAME:CDT
END:DAYLIGHT
BEGIN:STANDARD
TZOFFSETFROM:-0500
TZOFFSETTO:-0600
DTSTART:20071104T020000
RRULE:FREQ=YEARLY;BYMONTH=11;BYDAY=1SU
TZNAME:CST
END:STANDARD
END:VTIMEZONE
BEGIN:VEVENT
UID:16c52949-14dd-461a-afb6-ee7f662d9f1b.228472@calendar.missouristate.edu
CREATED:20230628T171115Z
LAST-MODIFIED:20230628T171115Z
LOCATION:Plaster Student Union\, Robert W. Theater
SUMMARY:SAC Blockbuster Showing
DESCRIPTION:SAC provides blockbuster movies throughout the school year.\n\
 n\nSAC shows many different movies each semester\, giving students a way 
 to watch a free movie with friends and enjoy some free food.\n\n\nFollow 
 the SAC social media accounts\, @mostatsac\, to keep up-to-date on what t
 he movie title will be and prize info!
X-ALT-DESC;FMTTYPE=text/html:&lt;html&gt;&lt;head&gt;&lt;title&gt;&lt;/title&gt;&lt;/head&gt;&lt;body&gt;&lt;dl&gt;&lt;
 dd&gt;\n&lt;p&gt;SAC provides blockbuster movies throughout the school year.&lt;/p&gt;\n
 &lt;p&gt;SAC shows many different movies each semester\, giving students a way 
 to watch a free movie with friends and enjoy some free food.&lt;/p&gt;\n&lt;p&gt;Foll
 ow the SAC social media accounts\, @mostatsac\, to keep up-to-date on wha
 t the movie title will be and prize info!&lt;/p&gt;\n&lt;/dd&gt;&lt;/dl&gt;\n&lt;p&gt;&lt;/p&gt;&lt;/body&gt;
 &lt;/html&gt;
DTSTART;TZID=America/Chicago:20231006T190000
DTEND;TZID=America/Chicago:20231006T220000
SEQUENCE:0
URL:
CATEGORIES:Current Students,Faculty,Staff
END:VEVENT
END:VCALENDAR