BEGIN:VCALENDAR
VERSION:2.0
METHOD:PUBLISH
PRODID:-//Missouri State University/Calendar of Events//EN
CALSCALE:GREGORIAN
X-WR-TIMEZONE:America/Chicago
BEGIN:VTIMEZONE
TZID:America/Chicago
BEGIN:DAYLIGHT
TZOFFSETFROM:-0600
TZOFFSETTO:-0500
DTSTART:20070311T020000
RRULE:FREQ=YEARLY;BYMONTH=3;BYDAY=2SU
TZNAME:CDT
END:DAYLIGHT
BEGIN:STANDARD
TZOFFSETFROM:-0500
TZOFFSETTO:-0600
DTSTART:20071104T020000
RRULE:FREQ=YEARLY;BYMONTH=11;BYDAY=1SU
TZNAME:CST
END:STANDARD
END:VTIMEZONE
BEGIN:VEVENT
UID:30d3825f-cecf-4ad5-86bc-09c34ad54ac9.228473@calendar.missouristate.edu
CREATED:20230628T171657Z
LAST-MODIFIED:20230628T171657Z
LOCATION:Plaster Student Union\, Robert W. 315 &amp; 317
SUMMARY:Fortune Tells All
DESCRIPTION:SAC Live Entertainment's spooky week will host fortune tellers
 \, tarot card readers\, palm readers\, and more for students to interact 
 with.\n\n\n Students will have the opportunity to go around to various ta
 bles and get their palms read and their fortunes told\, completely free o
 f charge. \n\n\nThere will be free tarot cards and Halloween candy availa
 ble to go with the spooky theme.
X-ALT-DESC;FMTTYPE=text/html:&lt;html&gt;&lt;head&gt;&lt;title&gt;&lt;/title&gt;&lt;/head&gt;&lt;body&gt;&lt;p&gt;&lt;s
 pan&gt;SAC Live Entertainment's spooky week will host fortune tellers\, taro
 t card readers\, palm readers\, and more for students to interact with.&lt;/
 span&gt;&lt;/p&gt;\n&lt;p&gt;&lt;span&gt; Students will have the opportunity to go around to v
 arious tables and get their palms read and their fortunes told\, complete
 ly free of charge. &lt;/span&gt;&lt;/p&gt;\n&lt;p&gt;&lt;span&gt;There will be free tarot cards a
 nd Halloween candy available to go with the spooky theme.&lt;/span&gt;&lt;/p&gt;&lt;/bod
 y&gt;&lt;/html&gt;
DTSTART;TZID=America/Chicago:20231023T190000
DTEND;TZID=America/Chicago:20231023T210000
SEQUENCE:0
URL:https://calendar.missouristate.edu/viewevent.aspx?eventid=119772&amp;occur
 renceid=228473
CATEGORIES:Current Students,Faculty,Staff
END:VEVENT
END:VCALENDAR