BEGIN:VCALENDAR
VERSION:2.0
METHOD:PUBLISH
PRODID:-//Missouri State University/Calendar of Events//EN
CALSCALE:GREGORIAN
X-WR-TIMEZONE:America/Chicago
BEGIN:VTIMEZONE
TZID:America/Chicago
BEGIN:DAYLIGHT
TZOFFSETFROM:-0600
TZOFFSETTO:-0500
DTSTART:20070311T020000
RRULE:FREQ=YEARLY;BYMONTH=3;BYDAY=2SU
TZNAME:CDT
END:DAYLIGHT
BEGIN:STANDARD
TZOFFSETFROM:-0500
TZOFFSETTO:-0600
DTSTART:20071104T020000
RRULE:FREQ=YEARLY;BYMONTH=11;BYDAY=1SU
TZNAME:CST
END:STANDARD
END:VTIMEZONE
BEGIN:VEVENT
UID:9263291c-d41f-4e7d-a2fb-0d3e33324ddb.228474@calendar.missouristate.edu
CREATED:20230919T154316Z
LAST-MODIFIED:20230919T154316Z
LOCATION:Plaster Student Union\, Robert W. Theater
SUMMARY:Moonlight with MRC
DESCRIPTION:Student Activities Council is co-programming with Multicultura
 l Programs (and the Multicultural Resource Center) to show the movie "Moo
 nlight." \n\n\n"Moonlight" is a best picture Academy Award winning film t
 hat highlights a different perspective of the LGBTQ community. \n\n\nTher
 e will also be food and a small prize.
X-ALT-DESC;FMTTYPE=text/html:&lt;html&gt;&lt;head&gt;&lt;title&gt;&lt;/title&gt;&lt;/head&gt;&lt;body&gt;&lt;p&gt;&lt;s
 pan&gt;Student Activities Council is co-programming with Multicultural Progr
 ams (and the Multicultural Resource Center) to show the movie "Moonlight.
 " &lt;/span&gt;&lt;/p&gt;\n&lt;p&gt;&lt;span&gt;"Moonlight" is a best picture Academy Award winni
 ng film that&lt;/span&gt;&lt;span&gt; highlights a different perspective of the LGBTQ
  community. &lt;/span&gt;&lt;/p&gt;\n&lt;p&gt;&lt;span&gt;There will also be food and a small pri
 ze.&lt;/span&gt;&lt;/p&gt;&lt;/body&gt;&lt;/html&gt;
DTSTART;TZID=America/Chicago:20231009T180000
DTEND;TZID=America/Chicago:20231009T210000
SEQUENCE:0
URL:119773.jpg
CATEGORIES:Alumni,Current Students,Faculty,Staff
END:VEVENT
END:VCALENDAR