BEGIN:VCALENDAR
VERSION:2.0
METHOD:PUBLISH
PRODID:-//Missouri State University/Calendar of Events//EN
CALSCALE:GREGORIAN
X-WR-TIMEZONE:America/Chicago
BEGIN:VTIMEZONE
TZID:America/Chicago
BEGIN:DAYLIGHT
TZOFFSETFROM:-0600
TZOFFSETTO:-0500
DTSTART:20070311T020000
RRULE:FREQ=YEARLY;BYMONTH=3;BYDAY=2SU
TZNAME:CDT
END:DAYLIGHT
BEGIN:STANDARD
TZOFFSETFROM:-0500
TZOFFSETTO:-0600
DTSTART:20071104T020000
RRULE:FREQ=YEARLY;BYMONTH=11;BYDAY=1SU
TZNAME:CST
END:STANDARD
END:VTIMEZONE
BEGIN:VEVENT
UID:d53c0216-2f31-4e2b-8a3b-2204224dedec.228475@calendar.missouristate.edu
CREATED:20230628T171320Z
LAST-MODIFIED:20230628T171320Z
LOCATION:Plaster Student Union\, Robert W. Theater
SUMMARY:Spooky Movie Roast
DESCRIPTION:SAC will be showing a spooky themed movie the week of Hallowee
 n and partnering with Missouri State Sketch Comedy Club for this annual m
 ovie roast. \n\n\nStudents can watch a classic spooky movie with commenta
 ry while enjoying snacks and the chance to win a prize drawing.
X-ALT-DESC;FMTTYPE=text/html:&lt;html&gt;&lt;head&gt;&lt;title&gt;&lt;/title&gt;&lt;/head&gt;&lt;body&gt;&lt;p&gt;&lt;s
 pan&gt;SAC will be showing a spooky themed movie the week of Halloween and p
 artnering with Missouri State Sketch Comedy Club for this annual movie ro
 ast. &lt;/span&gt;&lt;/p&gt;\n&lt;p&gt;&lt;span&gt;Students can watch a classic spooky movie with
  commentary while enjoying snacks and the chance to win a prize drawing.&lt;
 /span&gt;&lt;/p&gt;&lt;/body&gt;&lt;/html&gt;
DTSTART;TZID=America/Chicago:20231025T180000
DTEND;TZID=America/Chicago:20231025T210000
SEQUENCE:0
URL:
CATEGORIES:Current Students,Faculty,Staff
END:VEVENT
END:VCALENDAR