BEGIN:VCALENDAR
VERSION:2.0
METHOD:PUBLISH
PRODID:-//Missouri State University/Calendar of Events//EN
CALSCALE:GREGORIAN
X-WR-TIMEZONE:America/Chicago
BEGIN:VTIMEZONE
TZID:America/Chicago
BEGIN:DAYLIGHT
TZOFFSETFROM:-0600
TZOFFSETTO:-0500
DTSTART:20070311T020000
RRULE:FREQ=YEARLY;BYMONTH=3;BYDAY=2SU
TZNAME:CDT
END:DAYLIGHT
BEGIN:STANDARD
TZOFFSETFROM:-0500
TZOFFSETTO:-0600
DTSTART:20071104T020000
RRULE:FREQ=YEARLY;BYMONTH=11;BYDAY=1SU
TZNAME:CST
END:STANDARD
END:VTIMEZONE
BEGIN:VEVENT
UID:3689d1bf-dc71-4a4d-90ef-ff8a9859aaab.228476@calendar.missouristate.edu
CREATED:20230731T135153Z
LAST-MODIFIED:20230731T135153Z
LOCATION:Plaster Student Union\, Robert W. Food Court
SUMMARY:Karaoke Night
DESCRIPTION:Student Activities Council will rent a karaoke software from a
  company to provide a fun night of student created live entertainment. \n
 \n\nStudents will be able to perform the song of their choice either alon
 e or with friends\, or just come to enjoy the show. There will be caterin
 g provided in the form of finger foods and refreshments\, as well as priz
 es like gift cards. Gift cards will be given out at the end of the night\
 , and people who sign up to perform will be entered in the giveaway.
X-ALT-DESC;FMTTYPE=text/html:&lt;html&gt;&lt;head&gt;&lt;title&gt;&lt;/title&gt;&lt;/head&gt;&lt;body&gt;&lt;p&gt;&lt;s
 pan&gt;Student Activities Council will rent a karaoke software from a compan
 y to provide a fun night of student created live entertainment. &lt;/span&gt;&lt;/
 p&gt;\n&lt;p&gt;&lt;span&gt;Students will be able to perform the song of their choice ei
 ther alone or with friends\, or just come to enjoy the show. There will b
 e catering provided in the form of finger foods and refreshments\, as wel
 l as prizes like gift cards. Gift cards will be given out at the end of t
 he night\, and people who sign up to perform will be entered in the givea
 way. &lt;br&gt;&lt;/span&gt;&lt;/p&gt;&lt;/body&gt;&lt;/html&gt;
DTSTART;TZID=America/Chicago:20231002T180000
DTEND;TZID=America/Chicago:20231002T200000
SEQUENCE:0
URL:
CATEGORIES:Current Students
END:VEVENT
END:VCALENDAR