BEGIN:VCALENDAR
VERSION:2.0
METHOD:PUBLISH
PRODID:-//Missouri State University/Calendar of Events//EN
CALSCALE:GREGORIAN
X-WR-TIMEZONE:America/Chicago
BEGIN:VTIMEZONE
TZID:America/Chicago
BEGIN:DAYLIGHT
TZOFFSETFROM:-0600
TZOFFSETTO:-0500
DTSTART:20070311T020000
RRULE:FREQ=YEARLY;BYMONTH=3;BYDAY=2SU
TZNAME:CDT
END:DAYLIGHT
BEGIN:STANDARD
TZOFFSETFROM:-0500
TZOFFSETTO:-0600
DTSTART:20071104T020000
RRULE:FREQ=YEARLY;BYMONTH=11;BYDAY=1SU
TZNAME:CST
END:STANDARD
END:VTIMEZONE
BEGIN:VEVENT
UID:1174f37e-58e8-4f93-b023-0d6dc5b7cac9.228477@calendar.missouristate.edu
CREATED:20230712T013242Z
LAST-MODIFIED:20230712T013242Z
LOCATION:Hammons Student Center\, John Q.
SUMMARY:Sneaker Soirée '23
DESCRIPTION:Grab your favorite sneakers and join us for the 37th annual Sn
 eaker Soirée on Aug. 5.\n\n\nThis annual auction event benefits 400-plus 
 Missouri State University student-athletes across 17 NCAA-I programs\, he
 lping to enhance and create a positive impact on the Bears! With free foo
 d and drinks (including alcoholic beverages)\, incredible silent and live
  auction items\, and the opportunity to make a difference for Bears stude
 nt-athletes\, the Sneaker Soirée is a community event you can't miss.
X-ALT-DESC;FMTTYPE=text/html:&lt;html&gt;&lt;head&gt;&lt;title&gt;&lt;/title&gt;&lt;/head&gt;&lt;body&gt;&lt;p&gt;Gr
 ab your favorite sneakers and join us for the 37th annual Sneaker Soirée 
 on Aug. 5.&lt;/p&gt;\n&lt;p&gt;This annual auction event benefits 400-plus Missouri S
 tate University student-athletes across 17 NCAA-I programs\, helping to e
 nhance and create a positive impact on the Bears! With free food and drin
 ks (including alcoholic beverages)\, incredible silent and live auction i
 tems\, and the opportunity to make a difference for Bears student-athlete
 s\, the Sneaker Soirée is a community event you can't miss.&lt;/p&gt;&lt;/body&gt;&lt;/h
 tml&gt;
DTSTART;TZID=America/Chicago:20230805T170000
DTEND;TZID=America/Chicago:20230805T200000
SEQUENCE:0
URL:https://events.readysetauction.com/missouristate/sneakersoiree23/
CATEGORIES:Public,Alumni,Current Students,Faculty,Future Students,Staff
END:VEVENT
END:VCALENDAR