BEGIN:VCALENDAR
VERSION:2.0
METHOD:PUBLISH
PRODID:-//Missouri State University/Calendar of Events//EN
CALSCALE:GREGORIAN
X-WR-TIMEZONE:America/Chicago
BEGIN:VTIMEZONE
TZID:America/Chicago
BEGIN:DAYLIGHT
TZOFFSETFROM:-0600
TZOFFSETTO:-0500
DTSTART:20070311T020000
RRULE:FREQ=YEARLY;BYMONTH=3;BYDAY=2SU
TZNAME:CDT
END:DAYLIGHT
BEGIN:STANDARD
TZOFFSETFROM:-0500
TZOFFSETTO:-0600
DTSTART:20071104T020000
RRULE:FREQ=YEARLY;BYMONTH=11;BYDAY=1SU
TZNAME:CST
END:STANDARD
END:VTIMEZONE
BEGIN:VEVENT
UID:d1693cc7-3165-4f5d-bbb9-0eaa148fe8f6.228512@calendar.missouristate.edu
CREATED:20230628T202916Z
LAST-MODIFIED:20230628T202916Z
LOCATION:Meyer Library\, Duane G. 203
SUMMARY:FLC - Brightspace Features Community 
DESCRIPTION:Our new learning management system\, Brightspace\, incorporate
 s a wide spectrum of exciting new features not available in Blackboard. T
 hese tools will save faculty time\, facilitate innovative pedagogy\, stre
 amline course delivery and improve student engagement and retention.
X-ALT-DESC;FMTTYPE=text/html:&lt;html&gt;&lt;head&gt;&lt;title&gt;&lt;/title&gt;&lt;/head&gt;&lt;body&gt;&lt;p&gt;&lt;s
 pan lang="EN-US"&gt;&lt;span&gt;Our new learning management system\, Brightspace\,
  incorporates a wide spectrum of exciting new features not available in B
 lackboard. These tools will save faculty time\, facilitate innovative ped
 agogy\, streamline course delivery and improve student engagement and ret
 ention. &lt;/span&gt;&lt;/span&gt;&lt;/p&gt;&lt;/body&gt;&lt;/html&gt;
DTSTART;TZID=America/Chicago:20230912T113000
DTEND;TZID=America/Chicago:20230912T133000
SEQUENCE:0
URL:
CATEGORIES:Faculty
END:VEVENT
END:VCALENDAR