BEGIN:VCALENDAR
VERSION:2.0
METHOD:PUBLISH
PRODID:-//Missouri State University/Calendar of Events//EN
CALSCALE:GREGORIAN
X-WR-TIMEZONE:America/Chicago
BEGIN:VTIMEZONE
TZID:America/Chicago
BEGIN:DAYLIGHT
TZOFFSETFROM:-0600
TZOFFSETTO:-0500
DTSTART:20070311T020000
RRULE:FREQ=YEARLY;BYMONTH=3;BYDAY=2SU
TZNAME:CDT
END:DAYLIGHT
BEGIN:STANDARD
TZOFFSETFROM:-0500
TZOFFSETTO:-0600
DTSTART:20071104T020000
RRULE:FREQ=YEARLY;BYMONTH=11;BYDAY=1SU
TZNAME:CST
END:STANDARD
END:VTIMEZONE
BEGIN:VEVENT
UID:3edb297c-6a87-48ab-80b7-e7f2d87032f0.228518@calendar.missouristate.edu
CREATED:20230628T205202Z
LAST-MODIFIED:20230628T205202Z
LOCATION:Meyer Library\, Duane G. 120
SUMMARY:FLC  ChatGPT Faculty Fellows Program 
DESCRIPTION:In today's rapidly evolving technological landscape\, universi
 ty faculty must keep up with the latest advancements in artificial intell
 igence (AI). One groundbreaking application of AI is ChatGPT.
X-ALT-DESC;FMTTYPE=text/html:&lt;html&gt;&lt;head&gt;&lt;title&gt;&lt;/title&gt;&lt;/head&gt;&lt;body&gt;&lt;p&gt;&lt;s
 pan lang="EN-US"&gt;&lt;span&gt;In&lt;/span&gt;&lt;span&gt; today's rapidly evolving technolog
 ical landscape\, university faculty must keep up with the latest advancem
 ents in artificial intelligence (AI). One groundbreaking application of A
 I is &lt;/span&gt;&lt;span&gt;ChatGPT.&lt;/span&gt;&lt;/span&gt;&lt;/p&gt;&lt;/body&gt;&lt;/html&gt;
DTSTART;TZID=America/Chicago:20230822T120000
DTEND;TZID=America/Chicago:20230822T150000
SEQUENCE:0
URL:https://calendar.missouristate.edu/viewevent.aspx?eventid=119778&amp;occur
 renceid=228518
CATEGORIES:Public,Faculty
END:VEVENT
END:VCALENDAR