BEGIN:VCALENDAR
VERSION:2.0
METHOD:PUBLISH
PRODID:-//Missouri State University/Calendar of Events//EN
CALSCALE:GREGORIAN
X-WR-TIMEZONE:America/Chicago
BEGIN:VTIMEZONE
TZID:America/Chicago
BEGIN:DAYLIGHT
TZOFFSETFROM:-0600
TZOFFSETTO:-0500
DTSTART:20070311T020000
RRULE:FREQ=YEARLY;BYMONTH=3;BYDAY=2SU
TZNAME:CDT
END:DAYLIGHT
BEGIN:STANDARD
TZOFFSETFROM:-0500
TZOFFSETTO:-0600
DTSTART:20071104T020000
RRULE:FREQ=YEARLY;BYMONTH=11;BYDAY=1SU
TZNAME:CST
END:STANDARD
END:VTIMEZONE
BEGIN:VEVENT
UID:17167cba-c22b-4b4a-8503-d9cc0884957d.228523@calendar.missouristate.edu
CREATED:20230628T210404Z
LAST-MODIFIED:20230628T210404Z
LOCATION:Meyer Library\, Duane G. 302
SUMMARY:FLC Inclusive Instructing 
DESCRIPTION:The Inclusive Instructing FLC is a group of instructors from a
  variety of disciplines who are united in their desire to be the embodime
 nt of inclusion. We will generate space through scholarship\, service\, m
 entorship\, teaching\, activism\, and our very selves. Although this work
  will never be easy\, it is imperative that we continue to persist\, even
  in the face of difficulty\, to make a profound difference in the educati
 on and lives of our students. 
X-ALT-DESC;FMTTYPE=text/html:&lt;html&gt;&lt;head&gt;&lt;title&gt;&lt;/title&gt;&lt;/head&gt;&lt;body&gt;&lt;p&gt;&lt;s
 pan lang="EN-US"&gt;The Inclusive Instructing FLC is a group of instructors 
 from a variety of disciplines who are united in their desire to be the em
 bodiment of inclusion. We will generate space through scholarship\, servi
 ce\, mentorship\, teaching\, activism\, and our very selves. Although thi
 s work will never be easy\, it is imperative that we continue to persist\
 , even in the face of difficulty\, to make a profound difference in the e
 ducation and lives of our students.&lt;/span&gt;&lt;span&gt;&amp;nbsp\;&lt;/span&gt;&lt;/p&gt;&lt;/body&gt;
 &lt;/html&gt;
DTSTART;TZID=America/Chicago:20230906T150000
DTEND;TZID=America/Chicago:20230906T170000
SEQUENCE:0
URL:https://calendar.missouristate.edu/viewevent.aspx?eventid=119780&amp;occur
 renceid=228523
CATEGORIES:Public,Faculty
END:VEVENT
END:VCALENDAR