BEGIN:VCALENDAR
VERSION:2.0
METHOD:PUBLISH
PRODID:-//Missouri State University/Calendar of Events//EN
CALSCALE:GREGORIAN
X-WR-TIMEZONE:America/Chicago
BEGIN:VTIMEZONE
TZID:America/Chicago
BEGIN:DAYLIGHT
TZOFFSETFROM:-0600
TZOFFSETTO:-0500
DTSTART:20070311T020000
RRULE:FREQ=YEARLY;BYMONTH=3;BYDAY=2SU
TZNAME:CDT
END:DAYLIGHT
BEGIN:STANDARD
TZOFFSETFROM:-0500
TZOFFSETTO:-0600
DTSTART:20071104T020000
RRULE:FREQ=YEARLY;BYMONTH=11;BYDAY=1SU
TZNAME:CST
END:STANDARD
END:VTIMEZONE
BEGIN:VEVENT
UID:f7d899fd-ddb9-4eaa-9168-55ad3b70ac73.228533@calendar.missouristate.edu
CREATED:20230628T213416Z
LAST-MODIFIED:20230628T213416Z
LOCATION:Karls Hall 233
SUMMARY:FLC Brightspace Migration Support Group 
DESCRIPTION:As we transition to Brightspace\, there will be many questions
 . This group will introduce members to the many tools of Brightspace.
X-ALT-DESC;FMTTYPE=text/html:&lt;html&gt;&lt;head&gt;&lt;title&gt;&lt;/title&gt;&lt;/head&gt;&lt;body&gt;&lt;p&gt;&lt;s
 pan&gt;As we transition to &lt;/span&gt;&lt;span&gt;Brightspace\,&lt;/span&gt;&lt;span&gt; there wil
 l be many &lt;/span&gt;&lt;span&gt;questions. This group will introduce members to th
 e many tools of &lt;/span&gt;&lt;span&gt;Brightspace. &lt;/span&gt;&lt;/p&gt;&lt;/body&gt;&lt;/html&gt;
DTSTART;TZID=America/Chicago:20230908T120000
DTEND;TZID=America/Chicago:20230908T150000
SEQUENCE:0
URL:https://calendar.missouristate.edu/viewevent.aspx?eventid=119782&amp;occur
 renceid=228533
CATEGORIES:Public,Faculty
END:VEVENT
END:VCALENDAR