BEGIN:VCALENDAR
VERSION:2.0
METHOD:PUBLISH
PRODID:-//Missouri State University/Calendar of Events//EN
CALSCALE:GREGORIAN
X-WR-TIMEZONE:America/Chicago
BEGIN:VTIMEZONE
TZID:America/Chicago
BEGIN:DAYLIGHT
TZOFFSETFROM:-0600
TZOFFSETTO:-0500
DTSTART:20070311T020000
RRULE:FREQ=YEARLY;BYMONTH=3;BYDAY=2SU
TZNAME:CDT
END:DAYLIGHT
BEGIN:STANDARD
TZOFFSETFROM:-0500
TZOFFSETTO:-0600
DTSTART:20071104T020000
RRULE:FREQ=YEARLY;BYMONTH=11;BYDAY=1SU
TZNAME:CST
END:STANDARD
END:VTIMEZONE
BEGIN:VEVENT
UID:556933d6-4b3b-429a-a182-c97d32d2be85.228538@calendar.missouristate.edu
CREATED:20230629T193508Z
LAST-MODIFIED:20230629T193508Z
LOCATION:Meyer Library\, Duane G. 101
SUMMARY:You CAN Afford to Study Abroad
DESCRIPTION:Join Eduction Abroad and Financial Aid for the presentation\, 
 You CAN Afford to Study Abroad. Education Abroad Advisor Amy Huff and Fin
 ancial Aid Coordinator Vicky White will share how students can apply thei
 r financial aid and scholarships to their time abroad. They will also pro
 vide MSU and external scholarship information with a focus on the Gilman 
 scholarship. 
X-ALT-DESC;FMTTYPE=text/html:&lt;html&gt;&lt;head&gt;&lt;title&gt;&lt;/title&gt;&lt;/head&gt;&lt;body&gt;&lt;p&gt;Jo
 in Eduction Abroad and Financial Aid for the presentation\, &lt;strong&gt;You C
 AN Afford to Study Abroad.&lt;/strong&gt;&amp;nbsp\;Education Abroad Advisor Amy Hu
 ff and Financial Aid Coordinator Vicky White will share how students can 
 apply their financial aid and scholarships to their time abroad. They wil
 l also provide MSU and external scholarship information with a focus on t
 he Gilman scholarship.&amp;nbsp\;&lt;/p&gt;&lt;/body&gt;&lt;/html&gt;
DTSTART;TZID=America/Chicago:20230928T150000
DTEND;TZID=America/Chicago:20230928T170000
SEQUENCE:0
URL:https://international.missouristate.edu/educationabroad/
CATEGORIES:Current Students,Faculty,Future Students,Staff
END:VEVENT
END:VCALENDAR