BEGIN:VCALENDAR
VERSION:2.0
METHOD:PUBLISH
PRODID:-//Missouri State University/Calendar of Events//EN
CALSCALE:GREGORIAN
X-WR-TIMEZONE:America/Chicago
BEGIN:VTIMEZONE
TZID:America/Chicago
BEGIN:DAYLIGHT
TZOFFSETFROM:-0600
TZOFFSETTO:-0500
DTSTART:20070311T020000
RRULE:FREQ=YEARLY;BYMONTH=3;BYDAY=2SU
TZNAME:CDT
END:DAYLIGHT
BEGIN:STANDARD
TZOFFSETFROM:-0500
TZOFFSETTO:-0600
DTSTART:20071104T020000
RRULE:FREQ=YEARLY;BYMONTH=11;BYDAY=1SU
TZNAME:CST
END:STANDARD
END:VTIMEZONE
BEGIN:VEVENT
UID:7e4f2bbe-edfe-4314-a495-ef2d83dead23.228554@calendar.missouristate.edu
CREATED:20230630T051505Z
LAST-MODIFIED:20230630T051505Z
LOCATION:St. Louis\, Mo.
SUMMARY:Missouri State University Women's Tennis at Saint Louis University
  Invitational
DESCRIPTION:Missouri State University Women's Tennis visits Saint Louis Un
 iversity Invitational
X-ALT-DESC;FMTTYPE=text/html:&lt;html&gt;&lt;head&gt;&lt;title&gt;&lt;/title&gt;&lt;/head&gt;&lt;body&gt;Misso
 uri State University Women's Tennis visits Saint Louis University Invitat
 ional&lt;/body&gt;&lt;/html&gt;
DTSTART;TZID=America/Chicago:20230915T090000
DTEND;TZID=America/Chicago:20230915T000000
SEQUENCE:0
URL:http://missouristatebears.com/index.aspx?path=wten
CATEGORIES:Current Students,Future Students,Parents and Family,Alumni,
 Faculty,Staff,Community,Visitors,Athletics
END:VEVENT
END:VCALENDAR