BEGIN:VCALENDAR
VERSION:2.0
METHOD:PUBLISH
PRODID:-//Missouri State University/Calendar of Events//EN
CALSCALE:GREGORIAN
X-WR-TIMEZONE:America/Chicago
BEGIN:VTIMEZONE
TZID:America/Chicago
BEGIN:DAYLIGHT
TZOFFSETFROM:-0600
TZOFFSETTO:-0500
DTSTART:20070311T020000
RRULE:FREQ=YEARLY;BYMONTH=3;BYDAY=2SU
TZNAME:CDT
END:DAYLIGHT
BEGIN:STANDARD
TZOFFSETFROM:-0500
TZOFFSETTO:-0600
DTSTART:20071104T020000
RRULE:FREQ=YEARLY;BYMONTH=11;BYDAY=1SU
TZNAME:CST
END:STANDARD
END:VTIMEZONE
BEGIN:VEVENT
UID:ba520a6a-e421-49fc-a9e9-d5b22bf91366.228601@calendar.missouristate.edu
CREATED:20230822T131415Z
LAST-MODIFIED:20230822T131415Z
LOCATION:Plaster Student Union\, Robert W. 101
SUMMARY:Put Your Bi-Focals On
DESCRIPTION:Join us for some free fun colored\, patterned sunglasses and t
 o learn a little something new together. Put on your “Bi-Focals” with us 
 to learn about some of the common myths about what it means to be bisexua
 l\, and how to open your eyes to the messages and stereotypes we’ve learn
 ed about bisexual people. This will be a laidback way to get some informa
 tion about what the “B” in LGBTQ+ means and how to be allies\, meet our w
 onderful LGBTQ+ Services and Multicultural Resource Center staff\, and ge
 t a fun new accessory to show off during Welcome Week!
X-ALT-DESC;FMTTYPE=text/html:&lt;html&gt;&lt;head&gt;&lt;title&gt;&lt;/title&gt;&lt;/head&gt;&lt;body&gt;&lt;p di
 r="ltr"&gt;&lt;span&gt;Join us for some free fun colored\, patterned sunglasses an
 d to learn a little something new together. Put on your “Bi-Focals” with 
 us to learn about some of the common myths about what it means to be bise
 xual\, and how to open your eyes to the messages and stereotypes we’ve le
 arned about bisexual people. This will be a laidback way to get some info
 rmation about what the “B” in LGBTQ+ means and how to be allies\, meet ou
 r wonderful LGBTQ+ Services and Multicultural Resource Center staff\, and
  get a fun new accessory to show off during Welcome Week! &lt;/span&gt;&lt;/p&gt;&lt;/bo
 dy&gt;&lt;/html&gt;
DTSTART;TZID=America/Chicago:20230823T110000
DTEND;TZID=America/Chicago:20230823T130000
SEQUENCE:0
URL:http://MissouriState.edu/MulticulturalPrograms
CATEGORIES:Current Students,Faculty,Staff
END:VEVENT
END:VCALENDAR