BEGIN:VCALENDAR
VERSION:2.0
METHOD:PUBLISH
PRODID:-//Missouri State University/Calendar of Events//EN
CALSCALE:GREGORIAN
X-WR-TIMEZONE:America/Chicago
BEGIN:VTIMEZONE
TZID:America/Chicago
BEGIN:DAYLIGHT
TZOFFSETFROM:-0600
TZOFFSETTO:-0500
DTSTART:20070311T020000
RRULE:FREQ=YEARLY;BYMONTH=3;BYDAY=2SU
TZNAME:CDT
END:DAYLIGHT
BEGIN:STANDARD
TZOFFSETFROM:-0500
TZOFFSETTO:-0600
DTSTART:20071104T020000
RRULE:FREQ=YEARLY;BYMONTH=11;BYDAY=1SU
TZNAME:CST
END:STANDARD
END:VTIMEZONE
BEGIN:VEVENT
UID:55f638e0-dabc-458c-89de-6bf3ec400fc9.228602@calendar.missouristate.edu
CREATED:20230705T213108Z
LAST-MODIFIED:20230705T213108Z
LOCATION:Plaster Student Union\, Robert W. 101
SUMMARY:ChaTea Time
DESCRIPTION:Tea time is back by popular demand\, after being one of our mo
 st loved events last year! Join us in the Multicultural Resource Center (
 MRC) to sample and learn about the history of some delicious teas from al
 l around the world\, hang out with other students and get to know the MRC
  staff and all of the resources MRC provides. This is a wonderful time to
  ask questions about what we do and how we can support you\, to get to kn
 ow our beautiful space more\, and enjoy some free treats! 
X-ALT-DESC;FMTTYPE=text/html:&lt;html&gt;&lt;head&gt;&lt;title&gt;&lt;/title&gt;&lt;/head&gt;&lt;body&gt;&lt;p di
 r="ltr"&gt;&lt;span&gt;Tea time is back by popular demand\, after being one of our
  most loved events last year! Join us in the Multicultural Resource Cente
 r (MRC) to sample and learn about the history of some delicious teas from
  all around the world\, hang out with other students and get to know the 
 MRC staff and all of the resources MRC provides. This is a wonderful time
  to ask questions about what we do and how we can support you\, to get to
  know our beautiful space more\, and enjoy some free treats!&amp;nbsp\;&lt;/span
 &gt;&lt;/p&gt;&lt;/body&gt;&lt;/html&gt;
DTSTART;TZID=America/Chicago:20230830T140000
DTEND;TZID=America/Chicago:20230830T160000
SEQUENCE:0
URL:http://MissouriState.edu/MulticulturalPrograms
CATEGORIES:Current Students,Faculty,Staff
END:VEVENT
END:VCALENDAR