BEGIN:VCALENDAR
VERSION:2.0
METHOD:PUBLISH
PRODID:-//Missouri State University/Calendar of Events//EN
CALSCALE:GREGORIAN
X-WR-TIMEZONE:America/Chicago
BEGIN:VTIMEZONE
TZID:America/Chicago
BEGIN:DAYLIGHT
TZOFFSETFROM:-0600
TZOFFSETTO:-0500
DTSTART:20070311T020000
RRULE:FREQ=YEARLY;BYMONTH=3;BYDAY=2SU
TZNAME:CDT
END:DAYLIGHT
BEGIN:STANDARD
TZOFFSETFROM:-0500
TZOFFSETTO:-0600
DTSTART:20071104T020000
RRULE:FREQ=YEARLY;BYMONTH=11;BYDAY=1SU
TZNAME:CST
END:STANDARD
END:VTIMEZONE
BEGIN:VEVENT
UID:21bc6ad6-1389-456f-a3f2-ff5c2ca02695.228606@calendar.missouristate.edu
CREATED:20230705T213547Z
LAST-MODIFIED:20230705T213547Z
LOCATION:Plaster Student Union\, Robert W. 300 (Ballroom East)
SUMMARY:Night of Bachata and Salsa
DESCRIPTION:Join us for the professional dance lesson from Dance With Me S
 pringfield dance group. Last year\, over 100 students danced bachata\, an
 d this year we will have two instructors helping us learn Latin steps. Co
 me and dance with us while enjoying some authentic food. 
X-ALT-DESC;FMTTYPE=text/html:&lt;html&gt;&lt;head&gt;&lt;title&gt;&lt;/title&gt;&lt;/head&gt;&lt;body&gt;&lt;p&gt;Jo
 in us for the professional dance lesson from Dance With Me Springfield da
 nce group. Last year\, over 100 students danced bachata\, and this year w
 e will have two instructors helping us learn Latin steps. Come and dance 
 with us while enjoying some authentic food.&amp;nbsp\;&lt;/p&gt;&lt;/body&gt;&lt;/html&gt;
DTSTART;TZID=America/Chicago:20230920T180000
DTEND;TZID=America/Chicago:20230920T200000
SEQUENCE:0
URL:http://MissouriState.edu/MulticulturalPrograms
CATEGORIES:Current Students,Faculty,Staff
END:VEVENT
END:VCALENDAR