BEGIN:VCALENDAR
VERSION:2.0
METHOD:PUBLISH
PRODID:-//Missouri State University/Calendar of Events//EN
CALSCALE:GREGORIAN
X-WR-TIMEZONE:America/Chicago
BEGIN:VTIMEZONE
TZID:America/Chicago
BEGIN:DAYLIGHT
TZOFFSETFROM:-0600
TZOFFSETTO:-0500
DTSTART:20070311T020000
RRULE:FREQ=YEARLY;BYMONTH=3;BYDAY=2SU
TZNAME:CDT
END:DAYLIGHT
BEGIN:STANDARD
TZOFFSETFROM:-0500
TZOFFSETTO:-0600
DTSTART:20071104T020000
RRULE:FREQ=YEARLY;BYMONTH=11;BYDAY=1SU
TZNAME:CST
END:STANDARD
END:VTIMEZONE
BEGIN:VEVENT
UID:045c2ad5-8d68-4b08-8eac-ea99452cc293.228607@calendar.missouristate.edu
CREATED:20230803T134817Z
LAST-MODIFIED:20230803T134817Z
LOCATION:Plaster Student Union\, Robert W. 101
SUMMARY:Financial Literacy with Association of Black Collegians
DESCRIPTION:The Association of Black Collegians will come and speak about 
 all the financial and budgeting basics you need to know. All students wel
 come!
X-ALT-DESC;FMTTYPE=text/html:&lt;html&gt;&lt;head&gt;&lt;title&gt;&lt;/title&gt;&lt;/head&gt;&lt;body&gt;&lt;p&gt;&lt;s
 pan&gt;The Association of Black Collegians will come and speak about all the
  financial and budgeting basics you need to know. All students welcome!&lt;/
 span&gt;&lt;/p&gt;&lt;/body&gt;&lt;/html&gt;
DTSTART;TZID=America/Chicago:20230921T130000
DTEND;TZID=America/Chicago:20230921T140000
SEQUENCE:0
URL:http://MissouriState.edu/MulticulturalPrograms
CATEGORIES:Current Students
END:VEVENT
END:VCALENDAR