BEGIN:VCALENDAR
VERSION:2.0
METHOD:PUBLISH
PRODID:-//Missouri State University/Calendar of Events//EN
CALSCALE:GREGORIAN
X-WR-TIMEZONE:America/Chicago
BEGIN:VTIMEZONE
TZID:America/Chicago
BEGIN:DAYLIGHT
TZOFFSETFROM:-0600
TZOFFSETTO:-0500
DTSTART:20070311T020000
RRULE:FREQ=YEARLY;BYMONTH=3;BYDAY=2SU
TZNAME:CDT
END:DAYLIGHT
BEGIN:STANDARD
TZOFFSETFROM:-0500
TZOFFSETTO:-0600
DTSTART:20071104T020000
RRULE:FREQ=YEARLY;BYMONTH=11;BYDAY=1SU
TZNAME:CST
END:STANDARD
END:VTIMEZONE
BEGIN:VEVENT
UID:66a1853c-261e-4aa6-89a9-4127a95fe66d.228608@calendar.missouristate.edu
CREATED:20230705T213829Z
LAST-MODIFIED:20230705T213829Z
LOCATION:Plaster Student Union\, Robert W. 200 (Theatre)
SUMMARY:Tres Vidas: The Lives of Three Legendary Latinas
DESCRIPTION:Have you ever wondered what Frida Khalo was like? Well\, now y
 ou have a chance to learn more about her life\, as well as two other bril
 liant women: Rufina Amaya and Alfonsina Storni. Join us for an amazing th
 eatre performance learning about three amazing Latinas. 
X-ALT-DESC;FMTTYPE=text/html:&lt;html&gt;&lt;head&gt;&lt;title&gt;&lt;/title&gt;&lt;/head&gt;&lt;body&gt;&lt;p&gt;Ha
 ve you ever wondered what Frida Khalo was like? Well\, now you have a cha
 nce to learn more about her life\, as well as two other brilliant women: 
 Rufina Amaya and Alfonsina Storni. Join us for an amazing theatre perform
 ance learning about three amazing Latinas.&amp;nbsp\;&lt;/p&gt;&lt;/body&gt;&lt;/html&gt;
DTSTART;TZID=America/Chicago:20230925T180000
DTEND;TZID=America/Chicago:20230925T200000
SEQUENCE:0
URL:http://MissouriState.edu/MulticulturalPrograms
CATEGORIES:Current Students,Faculty,Staff
END:VEVENT
END:VCALENDAR