BEGIN:VCALENDAR
VERSION:2.0
METHOD:PUBLISH
PRODID:-//Missouri State University/Calendar of Events//EN
CALSCALE:GREGORIAN
X-WR-TIMEZONE:America/Chicago
BEGIN:VTIMEZONE
TZID:America/Chicago
BEGIN:DAYLIGHT
TZOFFSETFROM:-0600
TZOFFSETTO:-0500
DTSTART:20070311T020000
RRULE:FREQ=YEARLY;BYMONTH=3;BYDAY=2SU
TZNAME:CDT
END:DAYLIGHT
BEGIN:STANDARD
TZOFFSETFROM:-0500
TZOFFSETTO:-0600
DTSTART:20071104T020000
RRULE:FREQ=YEARLY;BYMONTH=11;BYDAY=1SU
TZNAME:CST
END:STANDARD
END:VTIMEZONE
BEGIN:VEVENT
UID:fec20184-f485-46ae-8ee2-17fdad3731e0.228609@calendar.missouristate.edu
CREATED:20230905T173336Z
LAST-MODIFIED:20230905T173336Z
LOCATION:
SUMMARY:Native American Dance Demo
DESCRIPTION:View a demonstration and learn some history of traditional Nat
 ive American dances from the Southwest Missouri Indian Center. \n\n\nFacu
 lty and staff are welcome to join!
X-ALT-DESC;FMTTYPE=text/html:&lt;html&gt;&lt;head&gt;&lt;title&gt;&lt;/title&gt;&lt;/head&gt;&lt;body&gt;&lt;p&gt;&lt;s
 pan&gt;View a demonstration and learn some history of traditional Native Ame
 rican dances from the Southwest Missouri Indian Center. &lt;/span&gt;&lt;span&gt;&lt;/sp
 an&gt;&lt;/p&gt;\n&lt;p&gt;&lt;span&gt;Faculty and staff are welcome to join!&lt;/span&gt;&lt;/p&gt;&lt;/body
 &gt;&lt;/html&gt;
DTSTART;TZID=America/Chicago:20230926T180000
DTEND;TZID=America/Chicago:20230926T200000
SEQUENCE:1
URL:http://MissouriState.edu/MulticulturalPrograms
CATEGORIES:Current Students,Faculty,Staff
END:VEVENT
END:VCALENDAR