BEGIN:VCALENDAR
VERSION:2.0
METHOD:PUBLISH
PRODID:-//Missouri State University/Calendar of Events//EN
CALSCALE:GREGORIAN
X-WR-TIMEZONE:America/Chicago
BEGIN:VTIMEZONE
TZID:America/Chicago
BEGIN:DAYLIGHT
TZOFFSETFROM:-0600
TZOFFSETTO:-0500
DTSTART:20070311T020000
RRULE:FREQ=YEARLY;BYMONTH=3;BYDAY=2SU
TZNAME:CDT
END:DAYLIGHT
BEGIN:STANDARD
TZOFFSETFROM:-0500
TZOFFSETTO:-0600
DTSTART:20071104T020000
RRULE:FREQ=YEARLY;BYMONTH=11;BYDAY=1SU
TZNAME:CST
END:STANDARD
END:VTIMEZONE
BEGIN:VEVENT
UID:db9e0161-2492-459a-ac73-8ee44c2f62e4.228610@calendar.missouristate.edu
CREATED:20230803T131227Z
LAST-MODIFIED:20230803T131227Z
LOCATION:Plaster Student Union\, Robert W. 101
SUMMARY:Movie Night
DESCRIPTION:Come to the Multicultural Resource Center and learn about the 
 history of Latino/a/x movies. We will hear from an MSU film professor and
  of course\, watch a movie. Popcorn will be served to complete the true m
 ovie experience. 
X-ALT-DESC;FMTTYPE=text/html:&lt;html&gt;&lt;head&gt;&lt;title&gt;&lt;/title&gt;&lt;/head&gt;&lt;body&gt;&lt;p&gt;Co
 me to the Multicultural Resource Center and learn about the history of La
 tino/a/x movies. We will hear from an MSU film professor and of course\, 
 watch a movie. Popcorn will be served to complete the true movie experien
 ce.&amp;nbsp\;&lt;/p&gt;&lt;/body&gt;&lt;/html&gt;
DTSTART;TZID=America/Chicago:20230928T170000
DTEND;TZID=America/Chicago:20230928T190000
SEQUENCE:0
URL:http://MissouriState.edu/MulticulturalPrograms
CATEGORIES:Current Students
END:VEVENT
END:VCALENDAR