BEGIN:VCALENDAR
VERSION:2.0
METHOD:PUBLISH
PRODID:-//Missouri State University/Calendar of Events//EN
CALSCALE:GREGORIAN
X-WR-TIMEZONE:America/Chicago
BEGIN:VTIMEZONE
TZID:America/Chicago
BEGIN:DAYLIGHT
TZOFFSETFROM:-0600
TZOFFSETTO:-0500
DTSTART:20070311T020000
RRULE:FREQ=YEARLY;BYMONTH=3;BYDAY=2SU
TZNAME:CDT
END:DAYLIGHT
BEGIN:STANDARD
TZOFFSETFROM:-0500
TZOFFSETTO:-0600
DTSTART:20071104T020000
RRULE:FREQ=YEARLY;BYMONTH=11;BYDAY=1SU
TZNAME:CST
END:STANDARD
END:VTIMEZONE
BEGIN:VEVENT
UID:5e1703ea-bb1b-43ea-a04b-5757cf3919f4.228614@calendar.missouristate.edu
CREATED:20230711T131236Z
LAST-MODIFIED:20230711T131236Z
LOCATION:Plaster Student Union\, Robert W. 101
SUMMARY:ChaTea Time
DESCRIPTION:Back by a popular demand! Come to our ChaTea time\, chat about
  life and get some tasty tea. We're looking forward to seeing you all. 
X-ALT-DESC;FMTTYPE=text/html:&lt;html&gt;&lt;head&gt;&lt;title&gt;&lt;/title&gt;&lt;/head&gt;&lt;body&gt;&lt;p&gt;Ba
 ck by a popular demand! Come to our ChaTea time\, chat about life and get
  some tasty tea. We're looking forward to seeing you all.&amp;nbsp\;&lt;/p&gt;&lt;/bod
 y&gt;&lt;/html&gt;
DTSTART;TZID=America/Chicago:20231011T140000
DTEND;TZID=America/Chicago:20231011T160000
SEQUENCE:0
URL:http://MissouriState.edu/MulticulturalPrograms
CATEGORIES:Current Students
END:VEVENT
END:VCALENDAR