BEGIN:VCALENDAR
VERSION:2.0
METHOD:PUBLISH
PRODID:-//Missouri State University/Calendar of Events//EN
CALSCALE:GREGORIAN
X-WR-TIMEZONE:America/Chicago
BEGIN:VTIMEZONE
TZID:America/Chicago
BEGIN:DAYLIGHT
TZOFFSETFROM:-0600
TZOFFSETTO:-0500
DTSTART:20070311T020000
RRULE:FREQ=YEARLY;BYMONTH=3;BYDAY=2SU
TZNAME:CDT
END:DAYLIGHT
BEGIN:STANDARD
TZOFFSETFROM:-0500
TZOFFSETTO:-0600
DTSTART:20071104T020000
RRULE:FREQ=YEARLY;BYMONTH=11;BYDAY=1SU
TZNAME:CST
END:STANDARD
END:VTIMEZONE
BEGIN:VEVENT
UID:a681657d-9fbb-495d-9704-020c4986ad4e.228617@calendar.missouristate.edu
CREATED:20230720T152302Z
LAST-MODIFIED:20230720T152302Z
LOCATION:Plaster Student Union\, Robert W. 101
SUMMARY:International Queer Panel
DESCRIPTION:Our experiences are intersectional and our identities can be\,
  too. Come to the Multicultural Resource Center and learn from internatio
 nal peers and their experience in the U.S. as queer individuals. 
X-ALT-DESC;FMTTYPE=text/html:&lt;html&gt;&lt;head&gt;&lt;title&gt;&lt;/title&gt;&lt;/head&gt;&lt;body&gt;&lt;p&gt;Ou
 r experiences are intersectional and our identities can be\, too. Come to
  the Multicultural Resource Center and learn from international peers and
  their experience in the U.S. as queer individuals.&amp;nbsp\;&lt;/p&gt;&lt;/body&gt;&lt;/ht
 ml&gt;
DTSTART;TZID=America/Chicago:20231030T130000
DTEND;TZID=America/Chicago:20231030T150000
SEQUENCE:0
URL:http://MissouriState.edu/MulticulturalPrograms
CATEGORIES:Alumni,Current Students,Faculty,Staff
END:VEVENT
END:VCALENDAR