BEGIN:VCALENDAR
VERSION:2.0
METHOD:PUBLISH
PRODID:-//Missouri State University/Calendar of Events//EN
CALSCALE:GREGORIAN
X-WR-TIMEZONE:America/Chicago
BEGIN:VTIMEZONE
TZID:America/Chicago
BEGIN:DAYLIGHT
TZOFFSETFROM:-0600
TZOFFSETTO:-0500
DTSTART:20070311T020000
RRULE:FREQ=YEARLY;BYMONTH=3;BYDAY=2SU
TZNAME:CDT
END:DAYLIGHT
BEGIN:STANDARD
TZOFFSETFROM:-0500
TZOFFSETTO:-0600
DTSTART:20071104T020000
RRULE:FREQ=YEARLY;BYMONTH=11;BYDAY=1SU
TZNAME:CST
END:STANDARD
END:VTIMEZONE
BEGIN:VEVENT
UID:13b79d25-94b6-4ef1-90f4-42a0e50e621c.228619@calendar.missouristate.edu
CREATED:20230713T025957Z
LAST-MODIFIED:20230713T025957Z
LOCATION:Ellis Hall C. Minor Recital Hall - Ellis 220
SUMMARY:Virginia Cox Bussey Guest Piano Recital
DESCRIPTION:The MSU Music Department invites you to join us for the Virgin
 ia Cox Bussey Guest Artist Recital\, featuring pianist Martin Kesuma. For
  more information\, please communicate with the event contact.
X-ALT-DESC;FMTTYPE=text/html:&lt;html&gt;&lt;head&gt;&lt;title&gt;&lt;/title&gt;&lt;/head&gt;&lt;body&gt;&lt;p&gt;&lt;s
 pan dir="ltr"&gt;The MSU Music Department invites you to join us for the Vir
 ginia Cox Bussey Guest Artist Recital\, featuring pianist Martin Kesuma. 
 For more information\, please communicate with the event contact.&lt;/span&gt;&lt;
 /p&gt;&lt;/body&gt;&lt;/html&gt;
DTSTART;TZID=America/Chicago:20230917T000000
DTEND;TZID=America/Chicago:20230917T000000
SEQUENCE:0
URL:
CATEGORIES:Public,Alumni,Current Students,Faculty,Future Students,Staff
END:VEVENT
END:VCALENDAR