BEGIN:VCALENDAR
VERSION:2.0
METHOD:PUBLISH
PRODID:-//Missouri State University/Calendar of Events//EN
CALSCALE:GREGORIAN
X-WR-TIMEZONE:America/Chicago
BEGIN:VTIMEZONE
TZID:America/Chicago
BEGIN:DAYLIGHT
TZOFFSETFROM:-0600
TZOFFSETTO:-0500
DTSTART:20070311T020000
RRULE:FREQ=YEARLY;BYMONTH=3;BYDAY=2SU
TZNAME:CDT
END:DAYLIGHT
BEGIN:STANDARD
TZOFFSETFROM:-0500
TZOFFSETTO:-0600
DTSTART:20071104T020000
RRULE:FREQ=YEARLY;BYMONTH=11;BYDAY=1SU
TZNAME:CST
END:STANDARD
END:VTIMEZONE
BEGIN:VEVENT
UID:07443204-f8c9-4171-a117-7ea31b1b5150.228621@calendar.missouristate.edu
CREATED:20230713T025611Z
LAST-MODIFIED:20230713T025611Z
LOCATION:Hammons Hall for the Performing Arts\, Juanita K. Performance Hall
SUMMARY:ChoralFest Concert
DESCRIPTION:The MSU Music Department invites you to join us for the annual
  ChoralFest concert\, featuring all university choruses. For more informa
 tion\, please communicate with the event contact.
X-ALT-DESC;FMTTYPE=text/html:&lt;html&gt;&lt;head&gt;&lt;title&gt;&lt;/title&gt;&lt;/head&gt;&lt;body&gt;&lt;p&gt;&lt;s
 pan dir="ltr"&gt;The MSU Music Department invites you to join us for the ann
 ual ChoralFest concert\, featuring all university choruses. For more info
 rmation\, please communicate with the event contact.&lt;/span&gt;&lt;/p&gt;&lt;/body&gt;&lt;/h
 tml&gt;
DTSTART;TZID=America/Chicago:20230919T000000
DTEND;TZID=America/Chicago:20230919T000000
SEQUENCE:0
URL:
CATEGORIES:Public,Alumni,Current Students,Faculty,Future Students,Staff
END:VEVENT
END:VCALENDAR