BEGIN:VCALENDAR
VERSION:2.0
METHOD:PUBLISH
PRODID:-//Missouri State University/Calendar of Events//EN
CALSCALE:GREGORIAN
X-WR-TIMEZONE:America/Chicago
BEGIN:VTIMEZONE
TZID:America/Chicago
BEGIN:DAYLIGHT
TZOFFSETFROM:-0600
TZOFFSETTO:-0500
DTSTART:20070311T020000
RRULE:FREQ=YEARLY;BYMONTH=3;BYDAY=2SU
TZNAME:CDT
END:DAYLIGHT
BEGIN:STANDARD
TZOFFSETFROM:-0500
TZOFFSETTO:-0600
DTSTART:20071104T020000
RRULE:FREQ=YEARLY;BYMONTH=11;BYDAY=1SU
TZNAME:CST
END:STANDARD
END:VTIMEZONE
BEGIN:VEVENT
UID:2d9064f1-2e27-44f5-88da-b432398f0567.228630@calendar.missouristate.edu
CREATED:20231106T194504Z
LAST-MODIFIED:20231106T194504Z
LOCATION:Plaster Student Union\, Robert W. 200 (Theater)
SUMMARY:Native American Heritage Month Speaker with SAC
DESCRIPTION:Hear from a leader in the Native American community\, Gregg De
 al.\n\n\nDeal\, (Pyramid Lake Paiute Tribe) is a multi-disciplinary artis
 t\, activist and "disruptor." His work is informed by his Native identity
  and includes exhaustive critiques of American society\, politics\, popul
 ar culture and history. Through paintings\, murals\, performance work\, f
 ilmmaking\, spoken word and more\, Deal invites the viewer to confront th
 ese issues both in the present and the past tense.\n\n\nThis event is spo
 nsored by MSU's Student Activities Council and Multicultural Resource Cen
 ter.
X-ALT-DESC;FMTTYPE=text/html:&lt;html&gt;&lt;head&gt;&lt;title&gt;&lt;/title&gt;&lt;/head&gt;&lt;body&gt;&lt;p&gt;He
 ar from a leader in the Native American community\, &lt;a href="https://www.
 greggdeal.com/"&gt;Gregg Deal&lt;/a&gt;.&lt;/p&gt;\n&lt;p&gt;Deal\, (Pyramid Lake Paiute Tribe
 ) is a multi-disciplinary artist\, activist and "disruptor." His work is 
 informed by his Native identity and includes exhaustive critiques of Amer
 ican society\, politics\, popular culture and history. Through paintings\
 , murals\, performance work\, filmmaking\, spoken word and more\, Deal in
 vites the viewer to confront these issues both in the present and the pas
 t tense.&lt;/p&gt;\n&lt;p&gt;This event is sponsored by MSU's Student Activities Coun
 cil and Multicultural Resource Center.&lt;/p&gt;&lt;/body&gt;&lt;/html&gt;
DTSTART;TZID=America/Chicago:20231114T190000
DTEND;TZID=America/Chicago:20231114T200000
SEQUENCE:1
URL:http://MissouriState.edu/MulticulturalPrograms
CATEGORIES:Public,Alumni,Current Students,Faculty,Staff
END:VEVENT
END:VCALENDAR